BEGIN:VCALENDAR
VERSION:2.0
PRODID:-//Allwork.Space - ECPv6.0.10//NONSGML v1.0//EN
CALSCALE:GREGORIAN
METHOD:PUBLISH
X-ORIGINAL-URL:https://allwork.space
X-WR-CALDESC:Events for Allwork.Space
REFRESH-INTERVAL;VALUE=DURATION:PT1H
X-Robots-Tag:noindex
X-PUBLISHED-TTL:PT1H
BEGIN:VTIMEZONE
TZID:America/Kentucky/Louisville
BEGIN:DAYLIGHT
TZOFFSETFROM:-0500
TZOFFSETTO:-0400
TZNAME:EDT
DTSTART:20180311T070000
END:DAYLIGHT
BEGIN:STANDARD
TZOFFSETFROM:-0400
TZOFFSETTO:-0500
TZNAME:EST
DTSTART:20181104T060000
END:STANDARD
END:VTIMEZONE
BEGIN:VEVENT
DTSTART;VALUE=DATE:20180925
DTEND;VALUE=DATE:20180928
DTSTAMP:20260423T110856
CREATED:20180730T194122Z
LAST-MODIFIED:20180730T194122Z
UID:35573-1537833600-1538092799@allwork.space
SUMMARY:GCUC UK
DESCRIPTION:GCUC is the biggest coworking conference series in the world\, GCUC UK will be at Kings Place located in the heart of King’s Cross with views over the beautiful Regent’s Canal\, the venue is easily accessible from all over the UK and Europe
URL:https://allwork.space/event/gcuc-uk/
LOCATION:King’s Place\, 90 York Way\, London\, United Kindom
ATTACH;FMTTYPE=image/png:https://allwork.space/wp-content/uploads/2018/07/GCUC-UK_355749097d.png
END:VEVENT
END:VCALENDAR