BEGIN:VCALENDAR
VERSION:2.0
PRODID:-//Allwork.Space - ECPv6.0.10//NONSGML v1.0//EN
CALSCALE:GREGORIAN
METHOD:PUBLISH
X-ORIGINAL-URL:https://allwork.space
X-WR-CALDESC:Events for Allwork.Space
REFRESH-INTERVAL;VALUE=DURATION:PT1H
X-Robots-Tag:noindex
X-PUBLISHED-TTL:PT1H
BEGIN:VTIMEZONE
TZID:America/Kentucky/Louisville
BEGIN:DAYLIGHT
TZOFFSETFROM:-0500
TZOFFSETTO:-0400
TZNAME:EDT
DTSTART:20180311T070000
END:DAYLIGHT
BEGIN:STANDARD
TZOFFSETFROM:-0400
TZOFFSETTO:-0500
TZNAME:EST
DTSTART:20181104T060000
END:STANDARD
END:VTIMEZONE
BEGIN:VEVENT
DTSTART;VALUE=DATE:20180929
DTEND;VALUE=DATE:20180930
DTSTAMP:20260423T110900
CREATED:20180730T194337Z
LAST-MODIFIED:20180730T194337Z
UID:35577-1538179200-1538265599@allwork.space
SUMMARY:Coworking India
DESCRIPTION:SocialWorkplaces.com and World Office Expo have partnered up to create the 3rd event ever organized in India\, regarding the rise of Coworking and its impact on the startup ecosystem\, entrepreneurship\, innovation and\, overall\, the future of the workplace. Between 100 and 150 attendees from all around India will gather for 1 day in Mumbai..
URL:https://allwork.space/event/coworking-india-2/
LOCATION:Nehru Centre\, Dr. Annie Besant Road\, Worli Mumbai
ATTACH;FMTTYPE=image/png:https://allwork.space/wp-content/uploads/2018/07/Coworking-India.png
END:VEVENT
END:VCALENDAR