BEGIN:VCALENDAR
VERSION:2.0
PRODID:-//Allwork.Space - ECPv6.0.10//NONSGML v1.0//EN
CALSCALE:GREGORIAN
METHOD:PUBLISH
X-WR-CALNAME:Allwork.Space
X-ORIGINAL-URL:https://allwork.space
X-WR-CALDESC:Events for Allwork.Space
REFRESH-INTERVAL;VALUE=DURATION:PT1H
X-Robots-Tag:noindex
X-PUBLISHED-TTL:PT1H
BEGIN:VTIMEZONE
TZID:America/Kentucky/Louisville
BEGIN:DAYLIGHT
TZOFFSETFROM:-0500
TZOFFSETTO:-0400
TZNAME:EDT
DTSTART:20180311T070000
END:DAYLIGHT
BEGIN:STANDARD
TZOFFSETFROM:-0400
TZOFFSETTO:-0500
TZNAME:EST
DTSTART:20181104T060000
END:STANDARD
END:VTIMEZONE
BEGIN:VEVENT
DTSTART;VALUE=DATE:20181012
DTEND;VALUE=DATE:20181022
DTSTAMP:20260423T124012
CREATED:20180730T194625Z
LAST-MODIFIED:20180730T194625Z
UID:35581-1539302400-1540166399@allwork.space
SUMMARY:European Freelancer Week
DESCRIPTION:Introduction to European Freelancers Week\, European Freelancers Week is a series of events and actions created by and for independent workers held in different locations in mid October. The events inspire freelancers to join together to improve their independent careers through learning\, skill sharing\, networking and political action. Anyone can propose an event to be added to the calendar. Event formats include talks\, workshops and networking sessions.
URL:https://allwork.space/event/european-freelancer-week/
LOCATION:Different cities across Europe
ATTACH;FMTTYPE=image/jpeg:https://allwork.space/wp-content/uploads/2018/07/Europan-Freelancers-Week.jpg
END:VEVENT
END:VCALENDAR