BEGIN:VCALENDAR
VERSION:2.0
PRODID:-//Allwork.Space - ECPv6.0.10//NONSGML v1.0//EN
CALSCALE:GREGORIAN
METHOD:PUBLISH
X-WR-CALNAME:Allwork.Space
X-ORIGINAL-URL:https://allwork.space
X-WR-CALDESC:Events for Allwork.Space
REFRESH-INTERVAL;VALUE=DURATION:PT1H
X-Robots-Tag:noindex
X-PUBLISHED-TTL:PT1H
BEGIN:VTIMEZONE
TZID:America/Kentucky/Louisville
BEGIN:DAYLIGHT
TZOFFSETFROM:-0500
TZOFFSETTO:-0400
TZNAME:EDT
DTSTART:20180311T070000
END:DAYLIGHT
BEGIN:STANDARD
TZOFFSETFROM:-0400
TZOFFSETTO:-0500
TZNAME:EST
DTSTART:20181104T060000
END:STANDARD
END:VTIMEZONE
BEGIN:VEVENT
DTSTART;VALUE=DATE:20181021
DTEND;VALUE=DATE:20181024
DTSTAMP:20260423T141044
CREATED:20180730T195707Z
LAST-MODIFIED:20180730T195707Z
UID:35589-1540080000-1540339199@allwork.space
SUMMARY:GCUC Canada
DESCRIPTION:GCUC Canada will be hosted in Banff\, Alberta.  Together we will inspire and empower as we share our collective experience with an international audience. Industry leaders\, community organizers and talented delegates will join forces in the Rocky Mountains to share best practices and to shape the new work landscape.
URL:https://allwork.space/event/gcuc-canada/
LOCATION:107 Tunnel Mountain Drive\, Banff\, Alberta\, Canada
ATTACH;FMTTYPE=image/jpeg:https://allwork.space/wp-content/uploads/2018/07/GCUC-Canada.jpg
END:VEVENT
END:VCALENDAR