BEGIN:VCALENDAR
VERSION:2.0
PRODID:-//Allwork.Space - ECPv6.0.10//NONSGML v1.0//EN
CALSCALE:GREGORIAN
METHOD:PUBLISH
X-WR-CALNAME:Allwork.Space
X-ORIGINAL-URL:https://allwork.space
X-WR-CALDESC:Events for Allwork.Space
REFRESH-INTERVAL;VALUE=DURATION:PT1H
X-Robots-Tag:noindex
X-PUBLISHED-TTL:PT1H
BEGIN:VTIMEZONE
TZID:America/Kentucky/Louisville
BEGIN:DAYLIGHT
TZOFFSETFROM:-0500
TZOFFSETTO:-0400
TZNAME:EDT
DTSTART:20180311T070000
END:DAYLIGHT
BEGIN:STANDARD
TZOFFSETFROM:-0400
TZOFFSETTO:-0500
TZNAME:EST
DTSTART:20181104T060000
END:STANDARD
END:VTIMEZONE
BEGIN:VEVENT
DTSTART;VALUE=DATE:20181029
DTEND;VALUE=DATE:20181031
DTSTAMP:20260423T124019
CREATED:20180730T195207Z
LAST-MODIFIED:20180730T195207Z
UID:35585-1540771200-1540943999@allwork.space
SUMMARY:Coworking Acelerator Network
DESCRIPTION:Coworking Acelerator Network explore key insights and strategies for building your quality coworking business\, a participative and energising training experience over two days\, to explore the key elements that will make your quality coworking business a success for you and your community.
URL:https://allwork.space/event/coworking-acelerator-network/
LOCATION:4th floor\, 5 Rose St\, Edinburgh\, Scotland
ATTACH;FMTTYPE=image/png:https://allwork.space/wp-content/uploads/2018/07/Coworking-Accelerator-Network.png
END:VEVENT
END:VCALENDAR