BEGIN:VCALENDAR
VERSION:2.0
PRODID:-//Allwork.Space - ECPv6.0.10//NONSGML v1.0//EN
CALSCALE:GREGORIAN
METHOD:PUBLISH
X-ORIGINAL-URL:https://allwork.space
X-WR-CALDESC:Events for Allwork.Space
REFRESH-INTERVAL;VALUE=DURATION:PT1H
X-Robots-Tag:noindex
X-PUBLISHED-TTL:PT1H
BEGIN:VTIMEZONE
TZID:America/Kentucky/Louisville
BEGIN:DAYLIGHT
TZOFFSETFROM:-0500
TZOFFSETTO:-0400
TZNAME:EDT
DTSTART:20190310T070000
END:DAYLIGHT
BEGIN:STANDARD
TZOFFSETFROM:-0400
TZOFFSETTO:-0500
TZNAME:EST
DTSTART:20191103T060000
END:STANDARD
END:VTIMEZONE
BEGIN:VEVENT
DTSTART;VALUE=DATE:20190429
DTEND;VALUE=DATE:20190502
DTSTAMP:20260423T220217
CREATED:20190311T225317Z
LAST-MODIFIED:20190311T225317Z
UID:40251-1556496000-1556755199@allwork.space
SUMMARY:Future Offices - Spring
DESCRIPTION:Future Offices is back\, and this time we are bringing our thought leaders and site tours to Austin\, Texas! With an influx of gen z\, millennial leadership\, and still a multi-generational workforce\, corporate real estate and workplace strategies have become a continuum for improvement.  Between lease strategy\, the digital workplace\, health and wellness\, and the coworking disruption\, don’t miss the chance to learn the most pertinent challenges faced by the Fortune 500’s Global Heads of Real Estate\, Facilities\, and Workplace.
URL:https://allwork.space/event/future-offices-spring/
LOCATION:Hyatt Regency\, Austin\, TX\, United States
ATTACH;FMTTYPE=image/png:https://allwork.space/wp-content/uploads/2019/03/Screen-Shot-2019-03-11-at-4.50.15-PM.png
END:VEVENT
BEGIN:VEVENT
DTSTART;VALUE=DATE:20190501
DTEND;VALUE=DATE:20190502
DTSTAMP:20260423T220217
CREATED:20190215T134412Z
LAST-MODIFIED:20190215T134412Z
UID:39635-1556668800-1556755199@allwork.space
SUMMARY:WorkTech 19 Los Angeles
DESCRIPTION:WORKTECH19 Los Angeles is the forum for all those involved in the future of work and the workplace as well as real estate\, technology and innovation. The event will attract some of the biggest and brightest names to debate\, discuss\, and divulge the latest thinking on the growing importance of the workplace as a strategic tool for an organisation’s business return.
URL:https://allwork.space/event/worktech-19-los-angeles/
LOCATION:Convene\, 333 S Grand Avenue\, Los Angeles\, USA
ATTACH;FMTTYPE=image/png:https://allwork.space/wp-content/uploads/2019/02/Screen-Shot-2019-02-15-at-7.43.12-AM.png
END:VEVENT
END:VCALENDAR