BEGIN:VCALENDAR
VERSION:2.0
PRODID:-//Allwork.Space - ECPv6.0.10//NONSGML v1.0//EN
CALSCALE:GREGORIAN
METHOD:PUBLISH
X-ORIGINAL-URL:https://allwork.space
X-WR-CALDESC:Events for Allwork.Space
REFRESH-INTERVAL;VALUE=DURATION:PT1H
X-Robots-Tag:noindex
X-PUBLISHED-TTL:PT1H
BEGIN:VTIMEZONE
TZID:America/Kentucky/Louisville
BEGIN:DAYLIGHT
TZOFFSETFROM:-0500
TZOFFSETTO:-0400
TZNAME:EDT
DTSTART:20190310T070000
END:DAYLIGHT
BEGIN:STANDARD
TZOFFSETFROM:-0400
TZOFFSETTO:-0500
TZNAME:EST
DTSTART:20191103T060000
END:STANDARD
END:VTIMEZONE
BEGIN:VEVENT
DTSTART;VALUE=DATE:20190508
DTEND;VALUE=DATE:20190509
DTSTAMP:20260423T233733
CREATED:20190215T134620Z
LAST-MODIFIED:20190215T134620Z
UID:39639-1557273600-1557359999@allwork.space
SUMMARY:Smart Buildings 19
DESCRIPTION:Smart Buildings 2019 is a unique one day conference with leading thinkers coming together to debate the new world of work\, exploring new trends and how to best enhance assets of space\, technology and people.
URL:https://allwork.space/event/smart-buildings-19/
LOCATION:UBS\, 5 Broadgate\, London\, UK
ATTACH;FMTTYPE=image/png:https://allwork.space/wp-content/uploads/2019/02/Screen-Shot-2019-02-15-at-7.44.47-AM.png
END:VEVENT
END:VCALENDAR