BEGIN:VCALENDAR
VERSION:2.0
PRODID:-//Allwork.Space - ECPv6.0.10//NONSGML v1.0//EN
CALSCALE:GREGORIAN
METHOD:PUBLISH
X-WR-CALNAME:Allwork.Space
X-ORIGINAL-URL:https://allwork.space
X-WR-CALDESC:Events for Allwork.Space
REFRESH-INTERVAL;VALUE=DURATION:PT1H
X-Robots-Tag:noindex
X-PUBLISHED-TTL:PT1H
BEGIN:VTIMEZONE
TZID:America/Kentucky/Louisville
BEGIN:DAYLIGHT
TZOFFSETFROM:-0500
TZOFFSETTO:-0400
TZNAME:EDT
DTSTART:20190310T070000
END:DAYLIGHT
BEGIN:STANDARD
TZOFFSETFROM:-0400
TZOFFSETTO:-0500
TZNAME:EST
DTSTART:20191103T060000
END:STANDARD
END:VTIMEZONE
BEGIN:VEVENT
DTSTART;VALUE=DATE:20190519
DTEND;VALUE=DATE:20190523
DTSTAMP:20260423T233629
CREATED:20190312T154730Z
LAST-MODIFIED:20190312T154730Z
UID:40270-1558224000-1558569599@allwork.space
SUMMARY:International Contemporary Furniture Fair (ICFF)
DESCRIPTION:ICFF\, North America’s International platform for luxury design attracts over 38\,000 architects\, interior designers and developers with over 900 exhibitors from all points of the globe. ICFF offers an unparalleled opportunity to view innovative design trends as well as interactive\, educational programming led by some of the industry’s top leading designers and icons.
URL:https://allwork.space/event/international-contemporary-furniture-fair-icff/
LOCATION:Javits Center\, New York City\, United States
ATTACH;FMTTYPE=image/jpeg:https://allwork.space/wp-content/uploads/2019/03/logo-icff-icffsf18-websitelogowg-245x95-1.jpg
END:VEVENT
BEGIN:VEVENT
DTSTART;VALUE=DATE:20190521
DTEND;VALUE=DATE:20190524
DTSTAMP:20260423T233629
CREATED:20190312T155056Z
LAST-MODIFIED:20190312T155056Z
UID:40276-1558396800-1558655999@allwork.space
SUMMARY:Clerkenwell Design Week - London\, UK
DESCRIPTION:Celebrating its 10th year in May 2019 (21-23) the award-winning* CDW has firmly established itself as the UK’s leading independent design festival and annually attracts the international design community to this small area of London for three days of exciting events. In 2018\, the design community flocked to Clerkenwell with 34\,060 attendees and over 300 exhibiting brands.
URL:https://allwork.space/event/clerkenwell-design-week-london-uk/
ATTACH;FMTTYPE=image/png:https://allwork.space/wp-content/uploads/2019/03/Screen-Shot-2019-03-12-at-9.48.07-AM.png
END:VEVENT
END:VCALENDAR