BEGIN:VCALENDAR
VERSION:2.0
PRODID:-//Allwork.Space - ECPv6.0.10//NONSGML v1.0//EN
CALSCALE:GREGORIAN
METHOD:PUBLISH
X-ORIGINAL-URL:https://allwork.space
X-WR-CALDESC:Events for Allwork.Space
REFRESH-INTERVAL;VALUE=DURATION:PT1H
X-Robots-Tag:noindex
X-PUBLISHED-TTL:PT1H
BEGIN:VTIMEZONE
TZID:America/Kentucky/Louisville
BEGIN:DAYLIGHT
TZOFFSETFROM:-0500
TZOFFSETTO:-0400
TZNAME:EDT
DTSTART:20190310T070000
END:DAYLIGHT
BEGIN:STANDARD
TZOFFSETFROM:-0400
TZOFFSETTO:-0500
TZNAME:EST
DTSTART:20191103T060000
END:STANDARD
END:VTIMEZONE
BEGIN:VEVENT
DTSTART;VALUE=DATE:20190521
DTEND;VALUE=DATE:20190524
DTSTAMP:20260423T233808
CREATED:20190312T155056Z
LAST-MODIFIED:20190312T155056Z
UID:40276-1558396800-1558655999@allwork.space
SUMMARY:Clerkenwell Design Week - London\, UK
DESCRIPTION:Celebrating its 10th year in May 2019 (21-23) the award-winning* CDW has firmly established itself as the UK’s leading independent design festival and annually attracts the international design community to this small area of London for three days of exciting events. In 2018\, the design community flocked to Clerkenwell with 34\,060 attendees and over 300 exhibiting brands.
URL:https://allwork.space/event/clerkenwell-design-week-london-uk/
ATTACH;FMTTYPE=image/png:https://allwork.space/wp-content/uploads/2019/03/Screen-Shot-2019-03-12-at-9.48.07-AM.png
END:VEVENT
BEGIN:VEVENT
DTSTART;VALUE=DATE:20190522
DTEND;VALUE=DATE:20190527
DTSTAMP:20260423T233808
CREATED:20190312T155335Z
LAST-MODIFIED:20190312T155335Z
UID:40280-1558483200-1558915199@allwork.space
SUMMARY:EDRA50Brooklyn
DESCRIPTION:EDRA50 Brooklyn invites researchers and practitioners to come together with a shared belief in shaping urban design and changing environmental behavior at the global scale. The conference offers one-of-a-kind networking opportunities and educational seminars tailored exclusively for those in the environmental design field! The CFP is now closed. A rigorous review accepted close to 600 presentations. Watch for an online schedule of intensives\, symposium\, collaborations\, special EDRA at 50 sessions\, and many paper presentations.
URL:https://allwork.space/event/edra50brooklyn/
LOCATION:New York University Tandon School of Engineering\, Brooklyn\, NY\, United States
ATTACH;FMTTYPE=image/jpeg:https://allwork.space/wp-content/uploads/2019/03/edra50_main_image2.jpg
END:VEVENT
BEGIN:VEVENT
DTSTART;VALUE=DATE:20190523
DTEND;VALUE=DATE:20190525
DTSTAMP:20260423T233808
CREATED:20190312T154427Z
LAST-MODIFIED:20190312T154427Z
UID:40265-1558569600-1558742399@allwork.space
SUMMARY:3rd Annual Future of Work and Workplace Summit - Vienna\, Austria
DESCRIPTION:This premier B2B event will enable participants to learn about the latest developments in the new ways we work and how our new workplaces are redesigned to meet workers’ needs and increase productivity. \n  \nAs we know\, technological and cultural shifts are reshaping work\, workers and workplaces. Traditional employment and workplace models are being replaced with the next generation of design concepts and technology to foster higher levels of engagement\, collaboration and creativity.
URL:https://allwork.space/event/3rd-annual-future-of-work-and-workplace-summit-vienna-austria/
ATTACH;FMTTYPE=image/png:https://allwork.space/wp-content/uploads/2019/03/Screen-Shot-2019-03-12-at-9.42.01-AM.png
END:VEVENT
END:VCALENDAR