BEGIN:VCALENDAR
VERSION:2.0
PRODID:-//Allwork.Space - ECPv6.0.10//NONSGML v1.0//EN
CALSCALE:GREGORIAN
METHOD:PUBLISH
X-WR-CALNAME:Allwork.Space
X-ORIGINAL-URL:https://allwork.space
X-WR-CALDESC:Events for Allwork.Space
REFRESH-INTERVAL;VALUE=DURATION:PT1H
X-Robots-Tag:noindex
X-PUBLISHED-TTL:PT1H
BEGIN:VTIMEZONE
TZID:America/Kentucky/Louisville
BEGIN:DAYLIGHT
TZOFFSETFROM:-0500
TZOFFSETTO:-0400
TZNAME:EDT
DTSTART:20190310T070000
END:DAYLIGHT
BEGIN:STANDARD
TZOFFSETFROM:-0400
TZOFFSETTO:-0500
TZNAME:EST
DTSTART:20191103T060000
END:STANDARD
END:VTIMEZONE
BEGIN:VEVENT
DTSTART;VALUE=DATE:20190529
DTEND;VALUE=DATE:20190531
DTSTAMP:20260423T233724
CREATED:20190312T155916Z
LAST-MODIFIED:20190312T155916Z
UID:40284-1559088000-1559260799@allwork.space
SUMMARY:Gartner Digital Workplace Summit 2019 - Orlando\, FL
DESCRIPTION:The only event exclusively focused on the technologies people use to get work done in today’s modern work environment
URL:https://allwork.space/event/gartner-digital-workplace-summit-2019-orlando-fl/
ATTACH;FMTTYPE=image/png:https://allwork.space/wp-content/uploads/2019/03/Screen-Shot-2019-03-12-at-9.58.36-AM.png
END:VEVENT
END:VCALENDAR