BEGIN:VCALENDAR
VERSION:2.0
PRODID:-//Allwork.Space - ECPv6.0.10//NONSGML v1.0//EN
CALSCALE:GREGORIAN
METHOD:PUBLISH
X-WR-CALNAME:Allwork.Space
X-ORIGINAL-URL:https://allwork.space
X-WR-CALDESC:Events for Allwork.Space
REFRESH-INTERVAL;VALUE=DURATION:PT1H
X-Robots-Tag:noindex
X-PUBLISHED-TTL:PT1H
BEGIN:VTIMEZONE
TZID:America/Kentucky/Louisville
BEGIN:DAYLIGHT
TZOFFSETFROM:-0500
TZOFFSETTO:-0400
TZNAME:EDT
DTSTART:20190310T070000
END:DAYLIGHT
BEGIN:STANDARD
TZOFFSETFROM:-0400
TZOFFSETTO:-0500
TZNAME:EST
DTSTART:20191103T060000
END:STANDARD
END:VTIMEZONE
BEGIN:VEVENT
DTSTART;VALUE=DATE:20190919
DTEND;VALUE=DATE:20190921
DTSTAMP:20260424T061230
CREATED:20190312T162056Z
LAST-MODIFIED:20190312T162056Z
UID:40314-1568851200-1569023999@allwork.space
SUMMARY:3rd Annual Future Of Work and Workspace Conference 2019  - Berlin
DESCRIPTION:A unique opportunity to learn how to create diverse environments and balanced design strategies\, showcase company roots through space and integrate latest technologies in company’s work. It is a great platform for learning\, exchanging opinions\, and expanding one’s network enabled by live presentations followed by a dynamic questions & answers sessions as well as panel discussions and workshops with some of the keynote speakers.
URL:https://allwork.space/event/3rd-annual-future-of-work-and-workspace-conference-2019-berlin/
ATTACH;FMTTYPE=image/jpeg:https://allwork.space/wp-content/uploads/2019/03/3RD-Annual-Workspace-e1550067311599-770x415-1.jpg
END:VEVENT
END:VCALENDAR