BEGIN:VCALENDAR
VERSION:2.0
PRODID:-//Allwork.Space - ECPv6.0.10//NONSGML v1.0//EN
CALSCALE:GREGORIAN
METHOD:PUBLISH
X-WR-CALNAME:Allwork.Space
X-ORIGINAL-URL:https://allwork.space
X-WR-CALDESC:Events for Allwork.Space
REFRESH-INTERVAL;VALUE=DURATION:PT1H
X-Robots-Tag:noindex
X-PUBLISHED-TTL:PT1H
BEGIN:VTIMEZONE
TZID:America/Kentucky/Louisville
BEGIN:DAYLIGHT
TZOFFSETFROM:-0500
TZOFFSETTO:-0400
TZNAME:EDT
DTSTART:20200308T070000
END:DAYLIGHT
BEGIN:STANDARD
TZOFFSETFROM:-0400
TZOFFSETTO:-0500
TZNAME:EST
DTSTART:20201101T060000
END:STANDARD
END:VTIMEZONE
BEGIN:VEVENT
DTSTART;VALUE=DATE:20200211
DTEND;VALUE=DATE:20200215
DTSTAMP:20260424T152617
CREATED:20200117T182609Z
LAST-MODIFIED:20200117T182609Z
UID:48079-1581379200-1581724799@allwork.space
SUMMARY:Future Of Work Expo (Florida)
DESCRIPTION:The Future of Work expo explores how artificial intelligence and machine learning can improve business applications\, communications\, collaboration\, contact center and customer service\, and marketing and sales experiences and initiatives. At The Future of Work\, we’ll discuss how AI can enhance the business knowledge worker experience\, and help marketing and sales teams be more efficient and effective. \nTopics covered include: The use of AI and ML in \n\nBusiness Communications\nCollaboration\nContact Centers/Customer Experience\nMarketing and Sales\nOther Important Applications and Services
URL:https://allwork.space/event/future-of-work-expo-florida/
LOCATION:Fort Lauderdale\, Florida
ATTACH;FMTTYPE=image/jpeg:https://allwork.space/wp-content/uploads/2020/01/EAV4rhxXUAA1xrj.jpg
END:VEVENT
END:VCALENDAR