BEGIN:VCALENDAR
VERSION:2.0
PRODID:-//Allwork.Space - ECPv6.0.10//NONSGML v1.0//EN
CALSCALE:GREGORIAN
METHOD:PUBLISH
X-WR-CALNAME:Allwork.Space
X-ORIGINAL-URL:https://allwork.space
X-WR-CALDESC:Events for Allwork.Space
REFRESH-INTERVAL;VALUE=DURATION:PT1H
X-Robots-Tag:noindex
X-PUBLISHED-TTL:PT1H
BEGIN:VTIMEZONE
TZID:America/Kentucky/Louisville
BEGIN:DAYLIGHT
TZOFFSETFROM:-0500
TZOFFSETTO:-0400
TZNAME:EDT
DTSTART:20200308T070000
END:DAYLIGHT
BEGIN:STANDARD
TZOFFSETFROM:-0400
TZOFFSETTO:-0500
TZNAME:EST
DTSTART:20201101T060000
END:STANDARD
END:VTIMEZONE
BEGIN:VEVENT
DTSTART;VALUE=DATE:20200226
DTEND;VALUE=DATE:20200229
DTSTAMP:20260424T152615
CREATED:20191023T133204Z
LAST-MODIFIED:20191023T133204Z
UID:45667-1582675200-1582934399@allwork.space
SUMMARY:EX Impact Spring 2020
DESCRIPTION:The 5th Ex Impact Summit will focus on providing you practical takeaways to overcome upcoming and far reaching changes within today’s workforce and employee engagement and how you can create an organic\, people-centric culture to empower your organization.\n\nWith the theme of Employee 3.0: People and Communities\, debate the latest trends on communication and employee branding through social media; how to build your People Team and maximize employee value; providing greater autonomy to employees in today’s gig economy; understanding the nexus between employee wellbeing and its direct impact to your organization’s revenue\, and of course\, mastering the Human-Machine Partnership.\n\nSAVE 20% using code: ALLWORK_20
URL:https://allwork.space/event/ex-impact-spring-2020/
LOCATION:Orlando\, Florida
ATTACH;FMTTYPE=image/png:https://allwork.space/wp-content/uploads/2019/10/EXI-AllWork-370x345-1.png
END:VEVENT
END:VCALENDAR