BEGIN:VCALENDAR
VERSION:2.0
PRODID:-//Allwork.Space - ECPv6.0.10//NONSGML v1.0//EN
CALSCALE:GREGORIAN
METHOD:PUBLISH
X-WR-CALNAME:Allwork.Space
X-ORIGINAL-URL:https://allwork.space
X-WR-CALDESC:Events for Allwork.Space
REFRESH-INTERVAL;VALUE=DURATION:PT1H
X-Robots-Tag:noindex
X-PUBLISHED-TTL:PT1H
BEGIN:VTIMEZONE
TZID:America/Kentucky/Louisville
BEGIN:DAYLIGHT
TZOFFSETFROM:-0500
TZOFFSETTO:-0400
TZNAME:EDT
DTSTART:20200308T070000
END:DAYLIGHT
BEGIN:STANDARD
TZOFFSETFROM:-0400
TZOFFSETTO:-0500
TZNAME:EST
DTSTART:20201101T060000
END:STANDARD
END:VTIMEZONE
BEGIN:VEVENT
DTSTART;VALUE=DATE:20200303
DTEND;VALUE=DATE:20200304
DTSTAMP:20260424T184834
CREATED:20200117T182230Z
LAST-MODIFIED:20200117T182230Z
UID:48076-1583193600-1583279999@allwork.space
SUMMARY:IDC Future Of Work Conference (UK)
DESCRIPTION:The Future of Work is not only a technology revolution but fundamentally a cultural and organizational transformation with “employees” at its heart. \nA successful FoW strategy takes a holistic approach and addresses questions such as “How to empower and trust employees to work anywhere and connect with customers and partners alike?”\, “How can HR retain top talent?”  and “How can robotics and artificial intelligence augment the future workforce?”. \nThe purpose is not other than delivering business transformation and innovation in an attempt to constantly delight customers and drive business growth. \nJoin IDC on March 3rd to learn more and discuss the below: \n\nFuture of Work: What to watch in 2020\nThe intelligent workspace\nSecuring the borderless enterprise\nMeasuring employee experience\nAgile working in a fast-paced world\nThe modern services helpdesk\nMatching talent with business value: reskilling and upskilling\nRPA / IPA: beyond FTE\nOrganizational change\nCSR & sustainability
URL:https://allwork.space/event/idc-future-of-work-conference-uk/
ATTACH;FMTTYPE=image/png:https://allwork.space/wp-content/uploads/2020/01/Screen-Shot-2020-01-17-at-12.22.02-PM.png
END:VEVENT
END:VCALENDAR