BEGIN:VCALENDAR
VERSION:2.0
PRODID:-//Allwork.Space - ECPv6.0.10//NONSGML v1.0//EN
CALSCALE:GREGORIAN
METHOD:PUBLISH
X-ORIGINAL-URL:https://allwork.space
X-WR-CALDESC:Events for Allwork.Space
REFRESH-INTERVAL;VALUE=DURATION:PT1H
X-Robots-Tag:noindex
X-PUBLISHED-TTL:PT1H
BEGIN:VTIMEZONE
TZID:America/Kentucky/Louisville
BEGIN:DAYLIGHT
TZOFFSETFROM:-0500
TZOFFSETTO:-0400
TZNAME:EDT
DTSTART:20200308T070000
END:DAYLIGHT
BEGIN:STANDARD
TZOFFSETFROM:-0400
TZOFFSETTO:-0500
TZNAME:EST
DTSTART:20201101T060000
END:STANDARD
END:VTIMEZONE
BEGIN:VEVENT
DTSTART;VALUE=DATE:20200305
DTEND;VALUE=DATE:20200308
DTSTAMP:20260424T202347
CREATED:20190312T164136Z
LAST-MODIFIED:20190312T164136Z
UID:40328-1583366400-1583625599@allwork.space
SUMMARY:CU Asia 2020 - Bali
DESCRIPTION:Join us on the Island of the Gods for an interactive community experience like no other. \nTogether we’ll dive deeper\, go wider\, think more critically and act more urgently to create  a brave new world of living\, working and learning differently. \nDon’t miss CU Asia 2020… or you’ll miss out on the magic.
URL:https://allwork.space/event/cu-asia-2020-bali/
ATTACH;FMTTYPE=image/png:https://allwork.space/wp-content/uploads/2019/03/Screen-Shot-2019-03-12-at-10.39.50-AM.png
END:VEVENT
END:VCALENDAR