BEGIN:VCALENDAR
VERSION:2.0
PRODID:-//Allwork.Space - ECPv6.0.10//NONSGML v1.0//EN
CALSCALE:GREGORIAN
METHOD:PUBLISH
X-ORIGINAL-URL:https://allwork.space
X-WR-CALDESC:Events for Allwork.Space
REFRESH-INTERVAL;VALUE=DURATION:PT1H
X-Robots-Tag:noindex
X-PUBLISHED-TTL:PT1H
BEGIN:VTIMEZONE
TZID:America/Kentucky/Louisville
BEGIN:DAYLIGHT
TZOFFSETFROM:-0500
TZOFFSETTO:-0400
TZNAME:EDT
DTSTART:20200308T070000
END:DAYLIGHT
BEGIN:STANDARD
TZOFFSETFROM:-0400
TZOFFSETTO:-0500
TZNAME:EST
DTSTART:20201101T060000
END:STANDARD
END:VTIMEZONE
BEGIN:VEVENT
DTSTART;VALUE=DATE:20200318
DTEND;VALUE=DATE:20200321
DTSTAMP:20260424T184859
CREATED:20200117T173418Z
LAST-MODIFIED:20200117T173418Z
UID:48026-1584489600-1584748799@allwork.space
SUMMARY:World Workplace Europe '20 (Amsterdam)
DESCRIPTION:This year’s conference theme will be ‘Future for Facilities’. \nWhat will the future of and for FM bring? What are the trends we are seeing today and what are the discussions we should be having? Where does the future of facilities lie? What are the risks and the opportunities? Can we learn from the past and what developments of other disciplines can help us? What is the impact of climate change? What type of work environment do new generations want? What does the research say? What kind of research do we want in the upcoming time?
URL:https://allwork.space/event/world-workplace-europe-20-amsterdam/
LOCATION:Amstedarm
ATTACH;FMTTYPE=image/jpeg:https://allwork.space/wp-content/uploads/2020/01/WWE20.jpg
END:VEVENT
END:VCALENDAR