BEGIN:VCALENDAR
VERSION:2.0
PRODID:-//Allwork.Space - ECPv6.0.10//NONSGML v1.0//EN
CALSCALE:GREGORIAN
METHOD:PUBLISH
X-WR-CALNAME:Allwork.Space
X-ORIGINAL-URL:https://allwork.space
X-WR-CALDESC:Events for Allwork.Space
REFRESH-INTERVAL;VALUE=DURATION:PT1H
X-Robots-Tag:noindex
X-PUBLISHED-TTL:PT1H
BEGIN:VTIMEZONE
TZID:America/Kentucky/Louisville
BEGIN:DAYLIGHT
TZOFFSETFROM:-0500
TZOFFSETTO:-0400
TZNAME:EDT
DTSTART:20200308T070000
END:DAYLIGHT
BEGIN:STANDARD
TZOFFSETFROM:-0400
TZOFFSETTO:-0500
TZNAME:EST
DTSTART:20201101T060000
END:STANDARD
END:VTIMEZONE
BEGIN:VEVENT
DTSTART;VALUE=DATE:20200327
DTEND;VALUE=DATE:20200328
DTSTAMP:20260424T184834
CREATED:20200228T205156Z
LAST-MODIFIED:20200228T205156Z
UID:49299-1585267200-1585353599@allwork.space
SUMMARY:Coworking Convo: Can Virtual Mail Drive Revenue and Leads to a Coworking Space? (Online)
DESCRIPTION:Can Virtual Mail Drive Revenue and Leads to a Coworking Space? \nLet’s chat about it. \nJoin us for a free\, informal\, community conversation with fellow workspace operators and coworking pros. \nThis Coworking Convo will be moderated by coworking storyteller and content strategist Cat Johnson. \nWe’ll kick things off with a 10 minute intro with tips and insights from Keith Warner\, managing partner at Pacific Workplaces. Then we’ll open the conversation to the community to share questions\, ideas and resources. \nWho should attend? \n\nCoworking space operators\nCommunity managers\nWorkspace marketing pros and teams\n\nWhat should you bring? \n\nYour questions about virtual mail as a marketing and lead generation tool\nIdeas and best practices for other operators\nGotchas and pitfalls to avoid\nA spirit of collaboration and cooperation\n\nRegister now to save your spot.
URL:https://allwork.space/event/coworking-convo-can-virtual-mail-drive-revenue-and-leads-to-a-coworking-space-online/
ATTACH;FMTTYPE=image/png:https://allwork.space/wp-content/uploads/2020/02/Convos_Square.png
END:VEVENT
END:VCALENDAR