BEGIN:VCALENDAR
VERSION:2.0
PRODID:-//Allwork.Space - ECPv6.0.10//NONSGML v1.0//EN
CALSCALE:GREGORIAN
METHOD:PUBLISH
X-WR-CALNAME:Allwork.Space
X-ORIGINAL-URL:https://allwork.space
X-WR-CALDESC:Events for Allwork.Space
REFRESH-INTERVAL;VALUE=DURATION:PT1H
X-Robots-Tag:noindex
X-PUBLISHED-TTL:PT1H
BEGIN:VTIMEZONE
TZID:America/Kentucky/Louisville
BEGIN:DAYLIGHT
TZOFFSETFROM:-0500
TZOFFSETTO:-0400
TZNAME:EDT
DTSTART:20200308T070000
END:DAYLIGHT
BEGIN:STANDARD
TZOFFSETFROM:-0400
TZOFFSETTO:-0500
TZNAME:EST
DTSTART:20201101T060000
END:STANDARD
END:VTIMEZONE
BEGIN:VEVENT
DTSTART;VALUE=DATE:20200331
DTEND;VALUE=DATE:20200401
DTSTAMP:20260424T184835
CREATED:20200117T173934Z
LAST-MODIFIED:20200117T173934Z
UID:48032-1585612800-1585699199@allwork.space
SUMMARY:WORKTECH20 SMARTBUILDINGS (Singapore)
DESCRIPTION:SMARTBUILDINGS20 Singapore is the conference for all those involved in the future of work and the workplace as well as real estate\, technology and innovation. \nSMARTBUILDINGS is a unique one day Conference and Innovations Exhibition exploring how new Technologies are shaping the Built Environment and the New World of Work. Leading thinkers and Industry Practitioners come together to debate trends and explore ways to best enhance assets of space\, technology and people. We share new global case studies and offer insight into latest thinking around Workplace Apps\, Property Technology\, Connected Urban Environments\, 5G\, Sensors\, Cloud and Mobile Technology\, AI\, AR and more… exploring the opportunities these technologies provide for business leaders and their organisations. \nThe event attracts 150+ senior decision makers from CRE\, IT\, FM\, HR\, Architecture and Design. Those attending are interested in saving operational\ncost or increasing building efficiency\, enhancing workplace wellbeing and increasing employee productivity.
URL:https://allwork.space/event/worktech20-smartbuildings-singapore/
LOCATION:Singapore
ATTACH;FMTTYPE=image/png:https://allwork.space/wp-content/uploads/2020/01/Screen-Shot-2020-01-17-at-11.39.52-AM.png
END:VEVENT
END:VCALENDAR