BEGIN:VCALENDAR
VERSION:2.0
PRODID:-//Allwork.Space - ECPv6.0.10//NONSGML v1.0//EN
CALSCALE:GREGORIAN
METHOD:PUBLISH
X-WR-CALNAME:Allwork.Space
X-ORIGINAL-URL:https://allwork.space
X-WR-CALDESC:Events for Allwork.Space
REFRESH-INTERVAL;VALUE=DURATION:PT1H
X-Robots-Tag:noindex
X-PUBLISHED-TTL:PT1H
BEGIN:VTIMEZONE
TZID:America/Kentucky/Louisville
BEGIN:DAYLIGHT
TZOFFSETFROM:-0500
TZOFFSETTO:-0400
TZNAME:EDT
DTSTART:20200308T070000
END:DAYLIGHT
BEGIN:STANDARD
TZOFFSETFROM:-0400
TZOFFSETTO:-0500
TZNAME:EST
DTSTART:20201101T060000
END:STANDARD
END:VTIMEZONE
BEGIN:VEVENT
DTSTART;VALUE=DATE:20200401
DTEND;VALUE=DATE:20200403
DTSTAMP:20260424T184818
CREATED:20200117T191135Z
LAST-MODIFIED:20200117T191135Z
UID:48092-1585699200-1585871999@allwork.space
SUMMARY:Innov8 Work - Future of Work Conference (Israel)
DESCRIPTION:As technology and cultural changes are transforming the way we work\, we’re all facing some crucial questions. For example: in this candidate-driven market\, how to recruit and develop top talent? What will the future company look like? What jobs will we lose to machines? How can we work efficiently with freelancers? How can we design for innovation in large corporations? \nInnov8 Work is a new conference with a mission to bring together startups & leaders of HR\, coworking\, the gig economy & corporate innovation for a chance to connect\, learn\, and help each other be more successful.
URL:https://allwork.space/event/innov8-work-future-of-work-conference-israel/
LOCATION:Israel
ATTACH;FMTTYPE=image/png:https://allwork.space/wp-content/uploads/2020/01/Screen-Shot-2020-01-17-at-1.10.25-PM.png
END:VEVENT
END:VCALENDAR