BEGIN:VCALENDAR
VERSION:2.0
PRODID:-//Allwork.Space - ECPv6.0.10//NONSGML v1.0//EN
CALSCALE:GREGORIAN
METHOD:PUBLISH
X-ORIGINAL-URL:https://allwork.space
X-WR-CALDESC:Events for Allwork.Space
REFRESH-INTERVAL;VALUE=DURATION:PT1H
X-Robots-Tag:noindex
X-PUBLISHED-TTL:PT1H
BEGIN:VTIMEZONE
TZID:America/Kentucky/Louisville
BEGIN:DAYLIGHT
TZOFFSETFROM:-0500
TZOFFSETTO:-0400
TZNAME:EDT
DTSTART:20200308T070000
END:DAYLIGHT
BEGIN:STANDARD
TZOFFSETFROM:-0400
TZOFFSETTO:-0500
TZNAME:EST
DTSTART:20201101T060000
END:STANDARD
END:VTIMEZONE
BEGIN:VEVENT
DTSTART;TZID=America/Kentucky/Louisville:20200604T080000
DTEND;TZID=America/Kentucky/Louisville:20200607T170000
DTSTAMP:20260424T233524
CREATED:20200507T054403Z
LAST-MODIFIED:20200507T054403Z
UID:51085-1591257600-1591549200@allwork.space
SUMMARY:Digital Nomad Virtual Summit (Charity Event)
DESCRIPTION:Learn from 40+ Online Business Experts & Leaders in the Location Independence movement. This one is extra special as we will be collecting donations to buy food and supplies and distribute to families in Bali struggling during this time. Bali is near and dear to the heart of our community where many of us have lived for years and it’s time to give back. \nSecure Your FREE Seat Today
URL:https://allwork.space/event/digital-nomad-virtual-summit-charity-event/
ATTACH;FMTTYPE=image/png:https://allwork.space/wp-content/uploads/2020/05/DNS-LARGE-SQUARE-AD.png
END:VEVENT
END:VCALENDAR