BEGIN:VCALENDAR
VERSION:2.0
PRODID:-//Allwork.Space - ECPv6.0.10//NONSGML v1.0//EN
CALSCALE:GREGORIAN
METHOD:PUBLISH
X-ORIGINAL-URL:https://allwork.space
X-WR-CALDESC:Events for Allwork.Space
REFRESH-INTERVAL;VALUE=DURATION:PT1H
X-Robots-Tag:noindex
X-PUBLISHED-TTL:PT1H
BEGIN:VTIMEZONE
TZID:America/Kentucky/Louisville
BEGIN:DAYLIGHT
TZOFFSETFROM:-0500
TZOFFSETTO:-0400
TZNAME:EDT
DTSTART:20200308T070000
END:DAYLIGHT
BEGIN:STANDARD
TZOFFSETFROM:-0400
TZOFFSETTO:-0500
TZNAME:EST
DTSTART:20201101T060000
END:STANDARD
END:VTIMEZONE
BEGIN:VEVENT
DTSTART;VALUE=DATE:20200611
DTEND;VALUE=DATE:20200613
DTSTAMP:20260424T233524
CREATED:20200212T150625Z
LAST-MODIFIED:20200212T150625Z
UID:48852-1591833600-1592006399@allwork.space
SUMMARY:Coworking Spain Conference (Valencia)
DESCRIPTION:The most important date within the coworking industry in Spain. \nTwo days of conferences with the entire coworking family and the most important speakers within coworking and flexible offices. \n  \n20% EXCLUSIVE DISCOUNT CODE: allworkgivesyou20
URL:https://allwork.space/event/coworking-spain-conference-valencia/
LOCATION:Valencia
ATTACH;FMTTYPE=image/png:https://allwork.space/wp-content/uploads/2020/02/unnamed-2.png
END:VEVENT
END:VCALENDAR