BEGIN:VCALENDAR
VERSION:2.0
PRODID:-//Allwork.Space - ECPv6.0.10//NONSGML v1.0//EN
CALSCALE:GREGORIAN
METHOD:PUBLISH
X-ORIGINAL-URL:https://allwork.space
X-WR-CALDESC:Events for Allwork.Space
REFRESH-INTERVAL;VALUE=DURATION:PT1H
X-Robots-Tag:noindex
X-PUBLISHED-TTL:PT1H
BEGIN:VTIMEZONE
TZID:America/Kentucky/Louisville
BEGIN:DAYLIGHT
TZOFFSETFROM:-0500
TZOFFSETTO:-0400
TZNAME:EDT
DTSTART:20200308T070000
END:DAYLIGHT
BEGIN:STANDARD
TZOFFSETFROM:-0400
TZOFFSETTO:-0500
TZNAME:EST
DTSTART:20201101T060000
END:STANDARD
END:VTIMEZONE
BEGIN:VEVENT
DTSTART;VALUE=DATE:20200618
DTEND;VALUE=DATE:20200620
DTSTAMP:20260424T233632
CREATED:20200117T190855Z
LAST-MODIFIED:20200117T190855Z
UID:48088-1592438400-1592611199@allwork.space
SUMMARY:TNW Future Of Work Conference 2020 (Amsterdam)
DESCRIPTION:Artificial intelligence and automation are shifting the labor market. The rise of co-working tools and spaces have welcomed new trends\, including freelancing\, the gig economy\, and decentralized workforces. This growth in the global network has not only increased diversity in the workplace with regard to race\, gender\, and generations\, but more specifically\, Generation Z has raised demands for company transparency and sustainability. \nWhat does this mean for our future work life? How can companies adapt to the new norms of work\, and attract and retain a new generation of employees? And which personal skills must we learn to stay relevant? Future of Work explores the latest trends and provides in-depth answers to prepare companies and individuals for a new way of working.
URL:https://allwork.space/event/tnw-future-of-work-conference-2020-amsterdam/
LOCATION:Amsterdam
ATTACH;FMTTYPE=image/png:https://allwork.space/wp-content/uploads/2020/01/Screen-Shot-2020-01-17-at-1.08.28-PM.png
END:VEVENT
END:VCALENDAR