BEGIN:VCALENDAR
VERSION:2.0
PRODID:-//Allwork.Space - ECPv6.0.10//NONSGML v1.0//EN
CALSCALE:GREGORIAN
METHOD:PUBLISH
X-ORIGINAL-URL:https://allwork.space
X-WR-CALDESC:Events for Allwork.Space
REFRESH-INTERVAL;VALUE=DURATION:PT1H
X-Robots-Tag:noindex
X-PUBLISHED-TTL:PT1H
BEGIN:VTIMEZONE
TZID:America/Kentucky/Louisville
BEGIN:DAYLIGHT
TZOFFSETFROM:-0500
TZOFFSETTO:-0400
TZNAME:EDT
DTSTART:20200308T070000
END:DAYLIGHT
BEGIN:STANDARD
TZOFFSETFROM:-0400
TZOFFSETTO:-0500
TZNAME:EST
DTSTART:20201101T060000
END:STANDARD
END:VTIMEZONE
BEGIN:VEVENT
DTSTART;VALUE=DATE:20200622
DTEND;VALUE=DATE:20200624
DTSTAMP:20260424T233631
CREATED:20200117T181955Z
LAST-MODIFIED:20200117T181955Z
UID:48072-1592784000-1592956799@allwork.space
SUMMARY:IDC European Future of Work Summit (Spain)
DESCRIPTION:This year’s theme is “What does the Future of Work mean to me?”\, and we will be focusing on the impact of FoW at three levels: on our employees\, on our business and on the ultimate purpose (raison d’être) of our organization. Our aim is to demystify the concept of the “Future”\, and make it real\, relevant to our working day. \nIDC firmly believes that the Future of Work is an opportunity to bring out the best of humankind. As we embark on the era of cognitive computing\, human and machine collaboration is giving way to a new work model where trust\, accountability\, flexibility and creativity are intrinsic values for success.  Tech for good is more than a societal cause\, it’s the new modus operandi of modern work to create a sustainable future. \nIn this evolution\, our companies are becoming “living organisms”. Our companies are craving for a nourishing work culture\, are constantly evolving (for survival) and aspiring to build a better world. We\, each of us\, want to feel empowered to drive this change.  How can I make my employees feel valued and engaged? How can I create long-term business value for all my stakeholders? This event can give the right pointers. \nThis IDC Future of Work Summit will be an exclusive forum where C-level executives from various lines of business can discuss the requirements for building a successful FoW strategy.
URL:https://allwork.space/event/idc-european-future-of-work-summit-spain/
LOCATION:Palma de Mallorca\, Spain
ATTACH;FMTTYPE=image/png:https://allwork.space/wp-content/uploads/2020/01/Screen-Shot-2020-01-17-at-12.19.42-PM.png
END:VEVENT
END:VCALENDAR