BEGIN:VCALENDAR
VERSION:2.0
PRODID:-//Allwork.Space - ECPv6.0.10//NONSGML v1.0//EN
CALSCALE:GREGORIAN
METHOD:PUBLISH
X-WR-CALNAME:Allwork.Space
X-ORIGINAL-URL:https://allwork.space
X-WR-CALDESC:Events for Allwork.Space
REFRESH-INTERVAL;VALUE=DURATION:PT1H
X-Robots-Tag:noindex
X-PUBLISHED-TTL:PT1H
BEGIN:VTIMEZONE
TZID:America/Kentucky/Louisville
BEGIN:DAYLIGHT
TZOFFSETFROM:-0500
TZOFFSETTO:-0400
TZNAME:EDT
DTSTART:20200308T070000
END:DAYLIGHT
BEGIN:STANDARD
TZOFFSETFROM:-0400
TZOFFSETTO:-0500
TZNAME:EST
DTSTART:20201101T060000
END:STANDARD
END:VTIMEZONE
BEGIN:VEVENT
DTSTART;VALUE=DATE:20200624
DTEND;VALUE=DATE:20200627
DTSTAMP:20260424T233524
CREATED:20200214T173434Z
LAST-MODIFIED:20200214T173434Z
UID:48919-1592956800-1593215999@allwork.space
SUMMARY:LATAM Coworking Summit (Medellin)
DESCRIPTION:The most important annual conference of the flexible space industry in Latin America arrives in Colombia.\nDo not miss the opportunity to know the latest trends delivered by the most important leaders. \n  \nAcquire your ticket and participate in 3 days of intense conversations\, workshops\, panels and keynote conferences in Medellín\, Colombia from the industry leaders in LatAm.
URL:https://allwork.space/event/latam-coworking-summit-medellin/
LOCATION:Medellin\, Colombia
ATTACH;FMTTYPE=image/png:https://allwork.space/wp-content/uploads/2020/02/Screen-Shot-2020-02-14-at-11.33.06-AM.png
END:VEVENT
END:VCALENDAR