BEGIN:VCALENDAR
VERSION:2.0
PRODID:-//Allwork.Space - ECPv6.0.10//NONSGML v1.0//EN
CALSCALE:GREGORIAN
METHOD:PUBLISH
X-ORIGINAL-URL:https://allwork.space
X-WR-CALDESC:Events for Allwork.Space
REFRESH-INTERVAL;VALUE=DURATION:PT1H
X-Robots-Tag:noindex
X-PUBLISHED-TTL:PT1H
BEGIN:VTIMEZONE
TZID:America/Kentucky/Louisville
BEGIN:DAYLIGHT
TZOFFSETFROM:-0500
TZOFFSETTO:-0400
TZNAME:EDT
DTSTART:20200308T070000
END:DAYLIGHT
BEGIN:STANDARD
TZOFFSETFROM:-0400
TZOFFSETTO:-0500
TZNAME:EST
DTSTART:20201101T060000
END:STANDARD
END:VTIMEZONE
BEGIN:VEVENT
DTSTART;VALUE=DATE:20201006
DTEND;VALUE=DATE:20201028
DTSTAMP:20260425T072447
CREATED:20201001T003437Z
LAST-MODIFIED:20201001T003437Z
UID:68575-1601942400-1603843199@allwork.space
SUMMARY:GCUC Mastermind
DESCRIPTION:GCUC Mastermind is a virtual learning series focused on the accelerating nature of work and the humans driving it. Each Tuesday for 4 weeks\, we will gather online and discuss one of the four top of mind topics. We will also have break out sessions where you can meet other attendees. In the room will be industry leaders\, peers\, investors and operators alike. Join us\, this is where we mold the future of work – together. \n\n\n\n\n\n\nDay 1 – Marketing\n\n\nToday is all about Marketing. We’ll start out reviewing some of the basics and then quickly dive into some next level strategy. Come prepared to take lots of notes. \n\n\nDay 2 – Best In Class Ecosystems\nToday is all about ecosystems. Join us as we take a look at some of the projects that are inspiring us from a health\, wellness\, technology and sustainability perspective. \n\nDay 3 – The Future\n\n\nThe best way to predict the future is to create it. We believe the coworking world has done exceptionally well at just that. Let’s talk about some players that are making bold moves and integrating new lines of business. We’ll also explore some of the data you need to understand to make informed decisions about your future business. \n\nDay 4 – Finance\n\n\nToday is all about finance. Where can you get funding today? What models will prevail in the future? What are new lines of business you should be adding to your portfolio as you recover from Covid-19?
URL:https://allwork.space/event/gcuc-mastermind/
ATTACH;FMTTYPE=image/png:https://allwork.space/wp-content/uploads/2020/09/Captura-de-Pantalla-2020-09-30-a-las-7.33.50-p.m..png
END:VEVENT
BEGIN:VEVENT
DTSTART;VALUE=DATE:20201015
DTEND;VALUE=DATE:20201016
DTSTAMP:20260425T072447
CREATED:20200924T230011Z
LAST-MODIFIED:20200924T230011Z
UID:68361-1602720000-1602806399@allwork.space
SUMMARY:Make A Difference Summit US (Virtual)
DESCRIPTION:2020 is witnessing workplaces changing at an unprecedented pace. Make a Difference Digital Summit US in association with Mind Share Partners is North America’s premier digital conference and exhibition addressing workplace culture\, mental health and wellbeing. Getting to the heart of the challenges our workplaces are facing with the coronavirus pandemic in 2020\, we’ll bring together leading employers and experts to equip attendees with insights and solutions to meet fast-evolving needs of the modern organization. \nOne thing is sure – it has never been clearer how critical employee mental health and wellbeing are to the livelihood of businesses. \nThe core focus will be on supporting employee mental health through COVID-19\, stigma\, prevention\, training managers\, addressing access to mental healthcare\, effective leadership through change and creating diverse\, inclusive cultures that drive performance\, whilst looking after human capital. Make a Difference will blend best-practice learning from the brightest minds with the most progressive solutions influencing systemic\, positive change in mental\, physical\, financial and social wellbeing. Preview our content. \nWhether you’re just getting started with addressing workplace wellbeing for your staff or you’re moving to the next level of implementation of your strategy\, from C-suite\, talent executives\, managers to next-generation leadership teams\, join 1000+ like-minded professionals from across the continent and beyond for collaboration\, inspiration and to find the right answers for your organization – now\, and for the future. Learn more about why you should attend. \nEXCLUSIVE 50% DISCOUNT CODE: MADSUM50
URL:https://allwork.space/event/make-a-difference-summit-us-virtual/
ATTACH;FMTTYPE=image/png:https://allwork.space/wp-content/uploads/2020/09/Captura-de-Pantalla-2020-09-30-a-las-3.02.31-p.m..png
END:VEVENT
BEGIN:VEVENT
DTSTART;VALUE=DATE:20201015
DTEND;VALUE=DATE:20201016
DTSTAMP:20260425T072447
CREATED:20201012T034526Z
LAST-MODIFIED:20201012T034526Z
UID:68936-1602720000-1602806399@allwork.space
SUMMARY:Tagsley: The Future Of Coworking
DESCRIPTION:With the Future of work and the return to the office questionable\, it’s more important now than ever to show the industry the office will remain after Covid and possibly be needed more than ever. As we navigate through Covid and the return to the office\, it’s also fundamentally important to ensure our people have a sense of connection and community. \nThe purpose of the event is to educate our targeted sector on the importance of establishing and maintaining connected communities by highlighting the factors which enhance positive connections and create great working environments. We will also explore the future of co-working and discuss the importance of bringing people back to work safely in order to enable in-person collaboration.
URL:https://allwork.space/event/tagsley-the-future-of-coworking/
ATTACH;FMTTYPE=image/png:https://allwork.space/wp-content/uploads/2020/10/Captura-de-Pantalla-2020-10-11-a-las-10.44.29-p.m..png
END:VEVENT
END:VCALENDAR