BEGIN:VCALENDAR
VERSION:2.0
PRODID:-//Allwork.Space - ECPv6.0.10//NONSGML v1.0//EN
CALSCALE:GREGORIAN
METHOD:PUBLISH
X-ORIGINAL-URL:https://allwork.space
X-WR-CALDESC:Events for Allwork.Space
REFRESH-INTERVAL;VALUE=DURATION:PT1H
X-Robots-Tag:noindex
X-PUBLISHED-TTL:PT1H
BEGIN:VTIMEZONE
TZID:America/Kentucky/Louisville
BEGIN:DAYLIGHT
TZOFFSETFROM:-0500
TZOFFSETTO:-0400
TZNAME:EDT
DTSTART:20200308T070000
END:DAYLIGHT
BEGIN:STANDARD
TZOFFSETFROM:-0400
TZOFFSETTO:-0500
TZNAME:EST
DTSTART:20201101T060000
END:STANDARD
END:VTIMEZONE
BEGIN:VEVENT
DTSTART;VALUE=DATE:20201027
DTEND;VALUE=DATE:20201029
DTSTAMP:20260425T072421
CREATED:20200924T205616Z
LAST-MODIFIED:20200924T205616Z
UID:68350-1603756800-1603929599@allwork.space
SUMMARY:WORKTECH20 UK + EMEA (Virtual)
DESCRIPTION:WORKTECH20 UK & EMEA is the virtual forum for all those involved in the future of work and the workplace as well as real estate\, technology and innovation. \nFaced with the unimagined challenges of the Covid-19 pandemic\, WORKTECH is stepping up its online delivery of thought-leadership content\, and delighted to announce our first WORKTECH Virtual Conference Series\, to bring our global community together around shared interests\, evidence and ideas. \nDelegates will enjoy all elements of a WORKTECH Conference\, Exhibition and Networking event in a virtual format over two half days. Aimed at our UK and European audience\, the virtual conference will be running during the following times: \nTuesday 27th October 2020: 9am – 13.00 BST/ 10.00 – 14.00 CEST \nWednesday 28th October 2020: 9am – 13.00 BST/ 10.00 – 14.00 CEST \nWe will be updating this website with further information on the agenda and speakers\, so keeping checking back for more information! \n20% DISCOUNT HERE
URL:https://allwork.space/event/worktech20-uk-emea-virtual/
ATTACH;FMTTYPE=image/png:https://allwork.space/wp-content/uploads/2020/09/Instagram-Image-1.png
END:VEVENT
END:VCALENDAR