BEGIN:VCALENDAR
VERSION:2.0
PRODID:-//Allwork.Space - ECPv6.0.10//NONSGML v1.0//EN
CALSCALE:GREGORIAN
METHOD:PUBLISH
X-ORIGINAL-URL:https://allwork.space
X-WR-CALDESC:Events for Allwork.Space
REFRESH-INTERVAL;VALUE=DURATION:PT1H
X-Robots-Tag:noindex
X-PUBLISHED-TTL:PT1H
BEGIN:VTIMEZONE
TZID:America/Kentucky/Louisville
BEGIN:DAYLIGHT
TZOFFSETFROM:-0500
TZOFFSETTO:-0400
TZNAME:EDT
DTSTART:20200308T070000
END:DAYLIGHT
BEGIN:STANDARD
TZOFFSETFROM:-0400
TZOFFSETTO:-0500
TZNAME:EST
DTSTART:20201101T060000
END:STANDARD
END:VTIMEZONE
BEGIN:VEVENT
DTSTART;VALUE=DATE:20201116
DTEND;VALUE=DATE:20201121
DTSTAMP:20260425T090804
CREATED:20200913T204854Z
LAST-MODIFIED:20200913T204854Z
UID:67836-1605484800-1605916799@allwork.space
SUMMARY:ProWorkspaces Conference (Virtual)
DESCRIPTION:The ProWorkSpaces Conference is the main reference event of the Flexoffice industry in Spain and it is currently in the top ten of the international ranking.
URL:https://allwork.space/event/proworkspaces-conference-hybrid/
ATTACH;FMTTYPE=image/png:https://allwork.space/wp-content/uploads/2020/09/banner-Allwork-Sapace-actualizados-C.png
END:VEVENT
BEGIN:VEVENT
DTSTART;VALUE=DATE:20201118
DTEND;VALUE=DATE:20201119
DTSTAMP:20260425T090804
CREATED:20200930T232652Z
LAST-MODIFIED:20200930T232652Z
UID:68573-1605657600-1605743999@allwork.space
SUMMARY:Running Remote Virtual Conference
DESCRIPTION:Running Remote Online is an exclusive event for the founders of remote businesses taking place for the third time on November 18. This is a free online edition of the wildly successful Running Remote live conference\, held annually for the last three years\, which delivers insightful case studies from top remote work experts who have scaled their businesses without a physical office space. \nThis is the “new normal” after COVID-19. Remote work is no longer a perk; it’s clearly a life- and business-saving necessity. To get it right\, CEOs\, managers\, and employees need to be educated. At Running Remote Online\, entrepreneurs and tech leaders from across the globe will gather to share business insights and learn the strategies for managing distributed teams from acknowledged experts and prominent remote-industry leaders. Join the 1\,000+ attendees for 10 hours of top-class content delivered by 25 speakers\, plus live Q&As\, networking sessions\, and an expo.  \nRunning Remote Online is much more than just another webinar – this is a full-scale conference experience available from anywhere in the world absolutely free! Supercharge your remote teams with insights from the companies leading the remote work revolution. \n  \nThe registration for the event is free until October 18. After that\, an event pass can be purchased at $49.
URL:https://allwork.space/event/running-remote-virtual-conference/
ATTACH;FMTTYPE=image/png:https://allwork.space/wp-content/uploads/2020/09/RR.Online_18Nov_370x345_v1.3.png
END:VEVENT
END:VCALENDAR