BEGIN:VCALENDAR
VERSION:2.0
PRODID:-//Allwork.Space - ECPv6.0.10//NONSGML v1.0//EN
CALSCALE:GREGORIAN
METHOD:PUBLISH
X-WR-CALNAME:Allwork.Space
X-ORIGINAL-URL:https://allwork.space
X-WR-CALDESC:Events for Allwork.Space
REFRESH-INTERVAL;VALUE=DURATION:PT1H
X-Robots-Tag:noindex
X-PUBLISHED-TTL:PT1H
BEGIN:VTIMEZONE
TZID:America/Kentucky/Louisville
BEGIN:DAYLIGHT
TZOFFSETFROM:-0500
TZOFFSETTO:-0400
TZNAME:EDT
DTSTART:20210314T070000
END:DAYLIGHT
BEGIN:STANDARD
TZOFFSETFROM:-0400
TZOFFSETTO:-0500
TZNAME:EST
DTSTART:20211107T060000
END:STANDARD
END:VTIMEZONE
BEGIN:VEVENT
DTSTART;VALUE=DATE:20210128
DTEND;VALUE=DATE:20210129
DTSTAMP:20260425T120953
CREATED:20210122T145842Z
LAST-MODIFIED:20210122T145842Z
UID:72209-1611792000-1611878399@allwork.space
SUMMARY:How To Make Vibrant Workspaces With Your Local London Authority
DESCRIPTION:In 2020 COVID restrictions brought a change in commuter behaviour.  \nWe saw the rise of ‘neighbourhood workspaces’ in London as people adapted to ‘work from home.’  \nSoon ‘work from home’ became a quest to ‘work near home’ and it looks like this is ‘the next normal.’ \nResearch projects like Boot The Commute show how we average 251 hours a year on commuting.  \nFor once\, our whole nation changed where they do their work and got an entire year to reflect on it – 10 years of behaviour change condensed into a year\, businesses recognising that remote work can work. \nPre covid 15% of people worked remote\, currently that now sits at around 60% even after lockdown – Pandora’s box is now open on work-life balance … \nDo we seriously think we will go back to the inbound journeys at 7.30 am and 5.30  on packed trains and buses and tubes\, paying handsomely to stand in overcrowded transport and essentially waste up to 3 hrs a day journeying?\n\nWhatever the outcomes – the future won’t be like it was\, a hybrid approach of working will come into play and going to the office even for a couple of days a week won’t be a chore it will be seen as a benefit. More info here.
URL:https://allwork.space/event/how-to-make-vibrant-workspaces-with-your-local-london-authority/
ATTACH;FMTTYPE=image/png:https://allwork.space/wp-content/uploads/2021/01/unnamed-8.png
END:VEVENT
END:VCALENDAR