BEGIN:VCALENDAR
VERSION:2.0
PRODID:-//Allwork.Space - ECPv6.0.10//NONSGML v1.0//EN
CALSCALE:GREGORIAN
METHOD:PUBLISH
X-ORIGINAL-URL:https://allwork.space
X-WR-CALDESC:Events for Allwork.Space
REFRESH-INTERVAL;VALUE=DURATION:PT1H
X-Robots-Tag:noindex
X-PUBLISHED-TTL:PT1H
BEGIN:VTIMEZONE
TZID:America/Kentucky/Louisville
BEGIN:DAYLIGHT
TZOFFSETFROM:-0500
TZOFFSETTO:-0400
TZNAME:EDT
DTSTART:20210314T070000
END:DAYLIGHT
BEGIN:STANDARD
TZOFFSETFROM:-0400
TZOFFSETTO:-0500
TZNAME:EST
DTSTART:20211107T060000
END:STANDARD
END:VTIMEZONE
BEGIN:VEVENT
DTSTART;VALUE=DATE:20210223
DTEND;VALUE=DATE:20210226
DTSTAMP:20260425T135007
CREATED:20210202T180430Z
LAST-MODIFIED:20210202T180430Z
UID:72561-1614038400-1614297599@allwork.space
SUMMARY:HR and Future of Work LIVE (3rd edition)
DESCRIPTION:The Future of Work is here. Things like remote work\, flexible work hours\, learning being integrated into the work experience and upskilling are all happening before our eyes. Now\, the Future of Work discussion must shift once again to figure out how to evolve the employee experience further and help humans integrate with technology in ways that will drive efficiency and the growth of new skills. Roles are changing\, demands on the workforce are shifting and HR will be at the forefront of what the future of work looks like. Registering and attending this FREE ONLINE event will provide you real strategies for preparing your company and your employees now for the challenges that lay ahead. Challenges such as predicting the skills of the future\, strengthening and sustaining the workforce through new digital technologies and fostering a cohesive corporate structure.  Attendees will also be able to put their real questions to the speakers and get valuable\, actionable feedback that can be used to plan your organization’s plan for the next 5\, 10 and 20 years. More info here. \nHR and Future of Work is scheduled to start at 11a EST daily.\n\n\n\n100% Online | No travel Required  | Free to Participate | Earn SHRM Credits
URL:https://allwork.space/event/hr-and-future-of-work-live-3rd-edition/
ATTACH;FMTTYPE=image/png:https://allwork.space/wp-content/uploads/2021/02/EVENT-IMAGES-ALLWORK_72562ba203.png
END:VEVENT
BEGIN:VEVENT
DTSTART;VALUE=DATE:20210224
DTEND;VALUE=DATE:20210225
DTSTAMP:20260425T135007
CREATED:20210220T145608Z
LAST-MODIFIED:20210220T145608Z
UID:73260-1614124800-1614211199@allwork.space
SUMMARY:essensys & GWA webinar - Future-Proofing and De-Risking Your Flex Office Operation
DESCRIPTION:Industry experts come together to discuss critical components to enabling flexibility across an office portfolio. Understand the blind spots when it comes to management agreements\, technology and the occupier experience in a post-Covid office market where the spotlight is on flexible workspace.
URL:https://allwork.space/event/essensys-gwa-webinar-future-proofing-and-de-risking-your-flex-office-operation/
ATTACH;FMTTYPE=image/png:https://allwork.space/wp-content/uploads/2021/02/c2b6b36b-505e-4528-97d6-68d489ca6f7e.png
END:VEVENT
END:VCALENDAR