BEGIN:VCALENDAR
VERSION:2.0
PRODID:-//Allwork.Space - ECPv6.0.10//NONSGML v1.0//EN
CALSCALE:GREGORIAN
METHOD:PUBLISH
X-WR-CALNAME:Allwork.Space
X-ORIGINAL-URL:https://allwork.space
X-WR-CALDESC:Events for Allwork.Space
REFRESH-INTERVAL;VALUE=DURATION:PT1H
X-Robots-Tag:noindex
X-PUBLISHED-TTL:PT1H
BEGIN:VTIMEZONE
TZID:America/Kentucky/Louisville
BEGIN:DAYLIGHT
TZOFFSETFROM:-0500
TZOFFSETTO:-0400
TZNAME:EDT
DTSTART:20210314T070000
END:DAYLIGHT
BEGIN:STANDARD
TZOFFSETFROM:-0400
TZOFFSETTO:-0500
TZNAME:EST
DTSTART:20211107T060000
END:STANDARD
END:VTIMEZONE
BEGIN:VEVENT
DTSTART;VALUE=DATE:20210226
DTEND;VALUE=DATE:20210227
DTSTAMP:20260425T151056
CREATED:20210202T181141Z
LAST-MODIFIED:20210202T181141Z
UID:72567-1614297600-1614383999@allwork.space
SUMMARY:Coworking Convos: Using Clubhouse to Promote Your Coworking Space
DESCRIPTION:Can Clubhouse be used to promote your coworking space? \nLet’s chat about it. \nJoin for a free\, informal\, community conversation with fellow workspace operators and coworking pros. \nThe Convo will be moderated by coworking storyteller and content strategist Cat Johnson. \nWe’ll kick things off with tips and insights from a panel of workspace operators. Then we’ll open the conversation to the community to share questions\, ideas and resources. \nWho should attend? \n\nWorkspace operators\nCommunity managers\nCoworking space marketing teams\n\nWhat should you bring? \n\nIdeas\, insights and strategies\nQuestions for other workspace operators\nA spirit of collaboration and cooperation\n\nREGISTER HERE TO JOIN THE CONVO
URL:https://allwork.space/event/coworking-convos-using-clubhouse-to-promote-your-coworking-space/
ATTACH;FMTTYPE=image/png:https://allwork.space/wp-content/uploads/2020/02/Convos_Square.png
END:VEVENT
END:VCALENDAR