BEGIN:VCALENDAR
VERSION:2.0
PRODID:-//Allwork.Space - ECPv6.0.10//NONSGML v1.0//EN
CALSCALE:GREGORIAN
METHOD:PUBLISH
X-WR-CALNAME:Allwork.Space
X-ORIGINAL-URL:https://allwork.space
X-WR-CALDESC:Events for Allwork.Space
REFRESH-INTERVAL;VALUE=DURATION:PT1H
X-Robots-Tag:noindex
X-PUBLISHED-TTL:PT1H
BEGIN:VTIMEZONE
TZID:America/Kentucky/Louisville
BEGIN:DAYLIGHT
TZOFFSETFROM:-0500
TZOFFSETTO:-0400
TZNAME:EDT
DTSTART:20210314T070000
END:DAYLIGHT
BEGIN:STANDARD
TZOFFSETFROM:-0400
TZOFFSETTO:-0500
TZNAME:EST
DTSTART:20211107T060000
END:STANDARD
END:VTIMEZONE
BEGIN:VEVENT
DTSTART;VALUE=DATE:20210304
DTEND;VALUE=DATE:20210326
DTSTAMP:20260425T164127
CREATED:20210202T200529Z
LAST-MODIFIED:20210202T200529Z
UID:72569-1614816000-1616716799@allwork.space
SUMMARY:Smart Workspace Design Summit (Virtual Series)
DESCRIPTION:SWDS Virtual Series comes in short bursts\, so you can fit it in your schedule. \nTune in every Thursday from 1 pm to 4 pm CET throughout March 2021. \nMORE INFO HERE.
URL:https://allwork.space/event/smart-workspace-design-summit-virtual-series/
ATTACH;FMTTYPE=image/png:https://allwork.space/wp-content/uploads/2021/02/Screen-Shot-2021-02-02-at-2.02.38-PM.png
END:VEVENT
BEGIN:VEVENT
DTSTART;VALUE=DATE:20210315
DTEND;VALUE=DATE:20210316
DTSTAMP:20260425T164127
CREATED:20210109T234827Z
LAST-MODIFIED:20210109T234827Z
UID:71655-1615766400-1615852799@allwork.space
SUMMARY:GCUC's Designing for Member Reentry - Global
DESCRIPTION:As we enter 2021\, people are ready to return to “the office” but for many the office is gone. Coworking and flexspace is the wave of the future as the choice of workplace location turns to the employee.\nThis five part regional series is designed to walk you through processes to acquire members\, grow your community and boost sales. \nWe will discuss:  \n\nacquisition campaigns (for members who have left your space)\nreengaging former leads\nattracting the new WFH (work from home) crowd\npositioning your space to be a contender for corporate clients looking to place remote workforces\nconnecting and engaging with your local community\nsetting yourself up for success and harnessing the opportunities that are headed your way\n\nAt the end of the quarter we will bring the industry together to host a global roundtable on reentry best practices. \nMore info here
URL:https://allwork.space/event/gcucs-designing-for-member-reentry-global/
ATTACH;FMTTYPE=image/png:https://allwork.space/wp-content/uploads/2021/01/EVENT-IMAGES-ALLWORK.png
END:VEVENT
END:VCALENDAR