BEGIN:VCALENDAR
VERSION:2.0
PRODID:-//Allwork.Space - ECPv6.0.10//NONSGML v1.0//EN
CALSCALE:GREGORIAN
METHOD:PUBLISH
X-WR-CALNAME:Allwork.Space
X-ORIGINAL-URL:https://allwork.space
X-WR-CALDESC:Events for Allwork.Space
REFRESH-INTERVAL;VALUE=DURATION:PT1H
X-Robots-Tag:noindex
X-PUBLISHED-TTL:PT1H
BEGIN:VTIMEZONE
TZID:America/Kentucky/Louisville
BEGIN:DAYLIGHT
TZOFFSETFROM:-0500
TZOFFSETTO:-0400
TZNAME:EDT
DTSTART:20210314T070000
END:DAYLIGHT
BEGIN:STANDARD
TZOFFSETFROM:-0400
TZOFFSETTO:-0500
TZNAME:EST
DTSTART:20211107T060000
END:STANDARD
END:VTIMEZONE
BEGIN:VEVENT
DTSTART;VALUE=DATE:20210304
DTEND;VALUE=DATE:20210326
DTSTAMP:20260425T164043
CREATED:20210202T200529Z
LAST-MODIFIED:20210202T200529Z
UID:72569-1614816000-1616716799@allwork.space
SUMMARY:Smart Workspace Design Summit (Virtual Series)
DESCRIPTION:SWDS Virtual Series comes in short bursts\, so you can fit it in your schedule. \nTune in every Thursday from 1 pm to 4 pm CET throughout March 2021. \nMORE INFO HERE.
URL:https://allwork.space/event/smart-workspace-design-summit-virtual-series/
ATTACH;FMTTYPE=image/png:https://allwork.space/wp-content/uploads/2021/02/Screen-Shot-2021-02-02-at-2.02.38-PM.png
END:VEVENT
BEGIN:VEVENT
DTSTART;VALUE=DATE:20210325
DTEND;VALUE=DATE:20210326
DTSTAMP:20260425T164043
CREATED:20210216T025801Z
LAST-MODIFIED:20210216T025801Z
UID:73008-1616630400-1616716799@allwork.space
SUMMARY:technologywithin Webinar: Is grey space/tenant supply a flexible workspace opportunity?
DESCRIPTION:The pandemic has created a rise in previously let commercial office space returning to the market\, known as grey space\, or tenant supply. This is the result of organisations reviewing their property footprint. Large city-based head offices are being replaced by the hub and spoke model. Currently around 30% of London office space to let is grey space. \nThis is not a new trend\, with increases of tenant supply also occurring after the 2001/2 stock market crash and the 2008 recession. \nBut what happens to the resulting real estate? Tenants who no longer need their leased space can re-market it directly and sub-let. For potential tenants it’s often cheaper than full rent\, a shorter time commitment and may come semi fitted out. \nWith the UK the leading market in the world for flexible workspace\, is the natural answer to convert grey space to flex? Is it commercially viable and is it worth the original tenants investing in converting the space to successfully sublet? MORE INFO HERE
URL:https://allwork.space/event/technologywithin-webinar-is-grey-space-tenant-supply-a-flexible-workspace-opportunity/
ATTACH;FMTTYPE=image/png:https://allwork.space/wp-content/uploads/2021/02/greyspace-webinar-banner-2.png
END:VEVENT
BEGIN:VEVENT
DTSTART;VALUE=DATE:20210325
DTEND;VALUE=DATE:20210326
DTSTAMP:20260425T164043
CREATED:20210318T194343Z
LAST-MODIFIED:20210318T194343Z
UID:74204-1616630400-1616716799@allwork.space
SUMMARY:How Inclusion Will Create Sustainability in 2021 (London Coworking Assembly)
DESCRIPTION:Right now\, our coworking and shared workspace industry have got the interest of people in London like never before.  \nJoin us for another no-bull London Coworking Assembly event that cuts through all the future of work hype.  \nConnect with your local peers about what’s happening on the streets of London. 
URL:https://allwork.space/event/how-inclusion-will-create-sustainability-in-2021-london-coworking-assembly/
ATTACH;FMTTYPE=image/jpeg:https://allwork.space/wp-content/uploads/2021/03/Image-1.jpeg
END:VEVENT
END:VCALENDAR