BEGIN:VCALENDAR
VERSION:2.0
PRODID:-//Allwork.Space - ECPv6.0.10//NONSGML v1.0//EN
CALSCALE:GREGORIAN
METHOD:PUBLISH
X-WR-CALNAME:Allwork.Space
X-ORIGINAL-URL:https://allwork.space
X-WR-CALDESC:Events for Allwork.Space
REFRESH-INTERVAL;VALUE=DURATION:PT1H
X-Robots-Tag:noindex
X-PUBLISHED-TTL:PT1H
BEGIN:VTIMEZONE
TZID:America/Kentucky/Louisville
BEGIN:DAYLIGHT
TZOFFSETFROM:-0500
TZOFFSETTO:-0400
TZNAME:EDT
DTSTART:20210314T070000
END:DAYLIGHT
BEGIN:STANDARD
TZOFFSETFROM:-0400
TZOFFSETTO:-0500
TZNAME:EST
DTSTART:20211107T060000
END:STANDARD
END:VTIMEZONE
BEGIN:VEVENT
DTSTART;VALUE=DATE:20210415
DTEND;VALUE=DATE:20210416
DTSTAMP:20260425T181606
CREATED:20210226T003149Z
LAST-MODIFIED:20210226T003149Z
UID:73524-1618444800-1618531199@allwork.space
SUMMARY:Coworking Symposium 2021
DESCRIPTION:Coworking Symposium is a joint scholarly and industry half-day long conference on coworking and flexible workspaces. Tackling various topics such as developmental aspects in the post-pandemic world\, collaborative and networking perspectives\, HRM and other contemporary topics\, the symposium focuses on the most recent studies and practical developments of the coworking and the flexible workspace industry. \nFollowing the successful first edition of the symposium that evolved around the HRM perspectives\, the Coworking Symposium 2021 would knit its core on the transformation of coworking model and discuss the future perspectives that will emerge in the post-pandemic world. While the last symposium had two modules – a scholarly and industry model – the new edition will focus solely on recent studies and findings that are relevant to the field of coworking and flexible office research. \nThe Coworking Symposium 2021 is admission-free and accessible to a broader audience. Because knowledge should be freely accessible. Hit that RSVP button and reserve your ticket.
URL:https://allwork.space/event/coworking-symposium-2021/
ATTACH;FMTTYPE=image/jpeg:https://allwork.space/wp-content/uploads/2021/02/Coworking-Symposium-2021_digital-banner_IG_1080x1080_1-01.jpg
END:VEVENT
END:VCALENDAR