BEGIN:VCALENDAR
VERSION:2.0
PRODID:-//Allwork.Space - ECPv6.0.10//NONSGML v1.0//EN
CALSCALE:GREGORIAN
METHOD:PUBLISH
X-ORIGINAL-URL:https://allwork.space
X-WR-CALDESC:Events for Allwork.Space
REFRESH-INTERVAL;VALUE=DURATION:PT1H
X-Robots-Tag:noindex
X-PUBLISHED-TTL:PT1H
BEGIN:VTIMEZONE
TZID:America/Kentucky/Louisville
BEGIN:DAYLIGHT
TZOFFSETFROM:-0500
TZOFFSETTO:-0400
TZNAME:EDT
DTSTART:20210314T070000
END:DAYLIGHT
BEGIN:STANDARD
TZOFFSETFROM:-0400
TZOFFSETTO:-0500
TZNAME:EST
DTSTART:20211107T060000
END:STANDARD
END:VTIMEZONE
BEGIN:VEVENT
DTSTART;VALUE=DATE:20210422
DTEND;VALUE=DATE:20210423
DTSTAMP:20260425T181600
CREATED:20210225T230957Z
LAST-MODIFIED:20210225T230957Z
UID:73516-1619049600-1619135999@allwork.space
SUMMARY:Workplace Trends Research Summit 2021
DESCRIPTION:The Workplace Trends Research Summit returns this Spring on 22 April 2021. The event showcases the best and latest research into work and the workplace and how it can be applied for practical benefit. This is an annual event\, and in 2021 more than ever\, the findings of such research will be of paramount importance in strategic planning for the workplace.\n\n\n\n\n\n\n\n\n\n\n\n\nAbout\nEach year the event attracts around 200 delegates from the workplace community – workplace consultants\, occupiers\, designers\, architects\, researchers and suppliers. \nSpeaking sessions are filled with the highest-ranked submissions from a call for abstracts (open now) of published research that will be blind peer-reviewed by our review team: Nigel Oseland (Workplace Unlimited) and Fiona Duggan (FiD). \nThe Summit will take place online on our Hopin platform\, which best simulates both the presentation and social side of conferences as we used to know them. If regulations and safety allow\, nearer the time\, we will look to add a physical element in London for those who wish to attend in person.
URL:https://allwork.space/event/workplace-trends-research-summit-2021/
ATTACH;FMTTYPE=image/png:https://allwork.space/wp-content/uploads/2021/02/Screen-Shot-2021-02-25-at-5.07.54-PM.png
END:VEVENT
BEGIN:VEVENT
DTSTART;VALUE=DATE:20210422
DTEND;VALUE=DATE:20210423
DTSTAMP:20260425T181600
CREATED:20210318T220127Z
LAST-MODIFIED:20210318T220127Z
UID:74228-1619049600-1619135999@allwork.space
SUMMARY:Building a Post-COVID Flex Space Business Model (Panel by OfficeRnD)
DESCRIPTION:Tap into the demand of the future and ensure success for your business\n📅 Apr\, 22nd 🕚 11 AM EST 🕓 4 PM GMT  🕔 5 PM CEST\nFlex is the future and it’s just a matter of having the right business model to succeed in 2021 and beyond. Join us for a panel discussion on the topic with 3 industry experts. \nThis session is for you if you are:\n\nplanning the reopening of your flex space\nthinking about repopulating your flex workspace\nunsure how to adapt to the post-pandemic world\nnew to flex and want to build a successful flex space business\n\nWhat’s in it for you:\n\n3 industry experts sharing their know-how\nTips\, tactics and ideas for 2021 and beyond\nWhat it’s like to start a business in times of pandemic\nQ&A session at the end\n\nP.S. If you can’t make it for the live session\, register anyway. We’ll send you the recording.
URL:https://allwork.space/event/building-a-post-covid-flex-space-business-model-panel-by-officernd/
ATTACH;FMTTYPE=image/png:https://allwork.space/wp-content/uploads/2021/03/01_PANEL_Building-Post-COVID-Flex-Space-Business-Model_370x345-AllWork.png
END:VEVENT
END:VCALENDAR