BEGIN:VCALENDAR
VERSION:2.0
PRODID:-//Allwork.Space - ECPv6.0.10//NONSGML v1.0//EN
CALSCALE:GREGORIAN
METHOD:PUBLISH
X-ORIGINAL-URL:https://allwork.space
X-WR-CALDESC:Events for Allwork.Space
REFRESH-INTERVAL;VALUE=DURATION:PT1H
X-Robots-Tag:noindex
X-PUBLISHED-TTL:PT1H
BEGIN:VTIMEZONE
TZID:America/Kentucky/Louisville
BEGIN:DAYLIGHT
TZOFFSETFROM:-0500
TZOFFSETTO:-0400
TZNAME:EDT
DTSTART:20210314T070000
END:DAYLIGHT
BEGIN:STANDARD
TZOFFSETFROM:-0400
TZOFFSETTO:-0500
TZNAME:EST
DTSTART:20211107T060000
END:STANDARD
END:VTIMEZONE
BEGIN:VEVENT
DTSTART;VALUE=DATE:20210429
DTEND;VALUE=DATE:20210430
DTSTAMP:20260425T181601
CREATED:20210408T171019Z
LAST-MODIFIED:20210408T171019Z
UID:75122-1619654400-1619740799@allwork.space
SUMMARY:How to Market your London Coworking Space
DESCRIPTION:As a London Coworking space operator\, you are always looking for ways to communicate and market your business. \nYour website needs to get traffic\, and your pipeline needs to get leads\, and hopefully\, you’ll get a sale. \n“You can’t teach a kid to ride a bike in a seminar.” – David Sandler – legendary sales trainer. \nAny one event is not going to teach you how to market your coworking space\, but this is one of many conversations happening in the London Coworking Assembly about getting leads for your London Coworking Space.
URL:https://allwork.space/event/how-to-market-your-london-coworking-space/
ATTACH;FMTTYPE=image/jpeg:https://allwork.space/wp-content/uploads/2021/04/WhatsApp-Image-2021-04-01-at-15.25.58.jpeg
END:VEVENT
END:VCALENDAR