BEGIN:VCALENDAR
VERSION:2.0
PRODID:-//Allwork.Space - ECPv6.0.10//NONSGML v1.0//EN
CALSCALE:GREGORIAN
METHOD:PUBLISH
X-ORIGINAL-URL:https://allwork.space
X-WR-CALDESC:Events for Allwork.Space
REFRESH-INTERVAL;VALUE=DURATION:PT1H
X-Robots-Tag:noindex
X-PUBLISHED-TTL:PT1H
BEGIN:VTIMEZONE
TZID:America/Kentucky/Louisville
BEGIN:DAYLIGHT
TZOFFSETFROM:-0500
TZOFFSETTO:-0400
TZNAME:EDT
DTSTART:20210314T070000
END:DAYLIGHT
BEGIN:STANDARD
TZOFFSETFROM:-0400
TZOFFSETTO:-0500
TZNAME:EST
DTSTART:20211107T060000
END:STANDARD
END:VTIMEZONE
BEGIN:VEVENT
DTSTART;VALUE=DATE:20210628
DTEND;VALUE=DATE:20210703
DTSTAMP:20260425T230239
CREATED:20210517T145518Z
LAST-MODIFIED:20210517T145518Z
UID:76527-1624838400-1625270399@allwork.space
SUMMARY:COLTAM Latam Summmit
DESCRIPTION:There will be 5 days of virtual programming between technical sessions and other presentations made on a digital platform that will guarantee the immersion\, focus\, experience and networking that is expected of a great event and whose mission is to design and discuss new models of processes\, management\, novelties\, and post-vaccination reopening trends.  \nOn top of all that\, all tickets will be donated in their entirety to Doctors Without Borders! \nTickets Here! \nSpecial discount: 20 passes for 25$ please contact summit@colatam.com directly.
URL:https://allwork.space/event/coltam-latam-summmit/
ATTACH;FMTTYPE=image/png:https://allwork.space/wp-content/uploads/2021/05/NEW-CONTENT-APRIL-2021-16.png
END:VEVENT
BEGIN:VEVENT
DTSTART;VALUE=DATE:20210630
DTEND;VALUE=DATE:20210701
DTSTAMP:20260425T230239
CREATED:20210507T000446Z
LAST-MODIFIED:20210507T000446Z
UID:76234-1625011200-1625097599@allwork.space
SUMMARY:The 2021 Next Work Environment Competition by Work Design Magazine
DESCRIPTION:As creative individuals who live and work in a culturally diverse world\, we have the power to change things. Our work environments must attract people to creatively solve the world’s toughest problems in the most advanced places with solutions that inspire and rejuvenate us. Work Design Magazine’s 2021 Next Work Environment Competition is your opportunity to demonstrate your creative genius. More info here.
URL:https://allwork.space/event/the-2021-next-work-environment-competition-by-work-design-magazine/
ATTACH;FMTTYPE=image/png:https://allwork.space/wp-content/uploads/2021/05/WDM-Contest-2021-Partners-AdSpace2.png
END:VEVENT
BEGIN:VEVENT
DTSTART;VALUE=DATE:20210630
DTEND;VALUE=DATE:20210701
DTSTAMP:20260425T230239
CREATED:20210622T040717Z
LAST-MODIFIED:20210622T040717Z
UID:77724-1625011200-1625097599@allwork.space
SUMMARY:Flexible Workspace and the High Street Report
DESCRIPTION:The London Coworking Assembly invites you to join the discussion surrounding Coworking on London’s High Street. \nWith the 15-minute city in mind\, it’s difficult for freelancers and independent workers who live in the outskirts of London to commute to and from central London merely to find coworking spaces. \nCheck out how much time you’ll save when you ‘Boot the commute’ here. Since the start of the pandemic\, Europe has seen an increase in freelancers and independent work forces who make use of these spaces. \nThe pandemic has also enlightened freelancers and independent workers that traveling such distances for workspaces is preposterous. \nWe have invited three panellists\, Rebecca Trevalyan\, Alice Fung\, and Ojay McDonald\, to discuss flexible workspaces in London’s highstreets. \nThe event focuses on the political and economical cases within London and some advice on how you can serve your local area by creating a good space rather than just doing it blindly.
URL:https://allwork.space/event/flexible-workspace-and-the-high-street-report/
ATTACH;FMTTYPE=mpc-content-preset/mpc-cubebox:
END:VEVENT
END:VCALENDAR