BEGIN:VCALENDAR
VERSION:2.0
PRODID:-//Allwork.Space - ECPv6.0.10//NONSGML v1.0//EN
CALSCALE:GREGORIAN
METHOD:PUBLISH
X-ORIGINAL-URL:https://allwork.space
X-WR-CALDESC:Events for Allwork.Space
REFRESH-INTERVAL;VALUE=DURATION:PT1H
X-Robots-Tag:noindex
X-PUBLISHED-TTL:PT1H
BEGIN:VTIMEZONE
TZID:America/Kentucky/Louisville
BEGIN:DAYLIGHT
TZOFFSETFROM:-0500
TZOFFSETTO:-0400
TZNAME:EDT
DTSTART:20210314T070000
END:DAYLIGHT
BEGIN:STANDARD
TZOFFSETFROM:-0400
TZOFFSETTO:-0500
TZNAME:EST
DTSTART:20211107T060000
END:STANDARD
END:VTIMEZONE
BEGIN:VEVENT
DTSTART;VALUE=DATE:20210628
DTEND;VALUE=DATE:20210703
DTSTAMP:20260425T212646
CREATED:20210517T145518Z
LAST-MODIFIED:20210517T145518Z
UID:76527-1624838400-1625270399@allwork.space
SUMMARY:COLTAM Latam Summmit
DESCRIPTION:There will be 5 days of virtual programming between technical sessions and other presentations made on a digital platform that will guarantee the immersion\, focus\, experience and networking that is expected of a great event and whose mission is to design and discuss new models of processes\, management\, novelties\, and post-vaccination reopening trends.  \nOn top of all that\, all tickets will be donated in their entirety to Doctors Without Borders! \nTickets Here! \nSpecial discount: 20 passes for 25$ please contact summit@colatam.com directly.
URL:https://allwork.space/event/coltam-latam-summmit/
ATTACH;FMTTYPE=image/png:https://allwork.space/wp-content/uploads/2021/05/NEW-CONTENT-APRIL-2021-16.png
END:VEVENT
END:VCALENDAR