BEGIN:VCALENDAR
VERSION:2.0
PRODID:-//Allwork.Space - ECPv6.0.10//NONSGML v1.0//EN
CALSCALE:GREGORIAN
METHOD:PUBLISH
X-WR-CALNAME:Allwork.Space
X-ORIGINAL-URL:https://allwork.space
X-WR-CALDESC:Events for Allwork.Space
REFRESH-INTERVAL;VALUE=DURATION:PT1H
X-Robots-Tag:noindex
X-PUBLISHED-TTL:PT1H
BEGIN:VTIMEZONE
TZID:America/Kentucky/Louisville
BEGIN:DAYLIGHT
TZOFFSETFROM:-0500
TZOFFSETTO:-0400
TZNAME:EDT
DTSTART:20230312T070000
END:DAYLIGHT
BEGIN:STANDARD
TZOFFSETFROM:-0400
TZOFFSETTO:-0500
TZNAME:EST
DTSTART:20231105T060000
END:STANDARD
END:VTIMEZONE
BEGIN:VEVENT
DTSTART;VALUE=DATE:20231010
DTEND;VALUE=DATE:20231014
DTSTAMP:20260425T212648
CREATED:20220916T203930Z
LAST-MODIFIED:20220916T203930Z
UID:1016422-1696896000-1697241599@allwork.space
SUMMARY:HR Technology Conference & Expo
DESCRIPTION:As the industry’s leading independent event for a quarter of a century\, HR Tech delivers an unrivaled cutting-edge agenda that benefits HR and IT professionals from businesses of all sizes\, all industries and across the globe.
URL:https://allwork.space/event/hr-technology-conference-expo/
LOCATION:Mandala Bay Las Vegas
CATEGORIES:Human Resources
ATTACH;FMTTYPE=image/jpeg:https://allwork.space/wp-content/uploads/2022/09/hr-tech-oct-2023.jpg
END:VEVENT
BEGIN:VEVENT
DTSTART;VALUE=DATE:20231011
DTEND;VALUE=DATE:20231013
DTSTAMP:20260425T212648
CREATED:20230221T154128Z
LAST-MODIFIED:20230221T154128Z
UID:1020325-1696982400-1697155199@allwork.space
SUMMARY:Workspace Design Show Amsterdam
DESCRIPTION:Trade show Workspace Design Show takes place for the first time in Amsterdam in 2023 with an exhibition and talks program. \nThe exhibition showcases over 100 product launches\, including furniture\, lighting\, surfaces\, storage\, and technology. \nThe trade show also hosts panel discussions addressing issues and trends within the workplace interiors sector. \nSpeakers include partner at Cushman & Wakefield\, Sophie Schuller; partner at MVRDV\, Fokke Moerel; founding partner at Hollandse Nieuwe\, Hans Reineke; and global head of workplace at Miro\, Daaf Serné. \nThe two-day event invites architects\, designers\, developers\, contractors\, HR executives\, and workplace real estate professionals.
URL:https://allwork.space/event/workspace-design-show-amsterdam/
CATEGORIES:Coworking & Flex Office,CRE,Workplace Design
ATTACH;FMTTYPE=image/jpeg:https://allwork.space/wp-content/uploads/2023/02/Workspace-Design-Show-Amsterdam-.jpg
END:VEVENT
END:VCALENDAR