BEGIN:VCALENDAR
VERSION:2.0
PRODID:-//Allwork.Space - ECPv6.0.10//NONSGML v1.0//EN
CALSCALE:GREGORIAN
METHOD:PUBLISH
X-WR-CALNAME:Allwork.Space
X-ORIGINAL-URL:https://allwork.space
X-WR-CALDESC:Events for Allwork.Space
REFRESH-INTERVAL;VALUE=DURATION:PT1H
X-Robots-Tag:noindex
X-PUBLISHED-TTL:PT1H
BEGIN:VTIMEZONE
TZID:America/Kentucky/Louisville
BEGIN:DAYLIGHT
TZOFFSETFROM:-0500
TZOFFSETTO:-0400
TZNAME:EDT
DTSTART:20240310T070000
END:DAYLIGHT
BEGIN:STANDARD
TZOFFSETFROM:-0400
TZOFFSETTO:-0500
TZNAME:EST
DTSTART:20241103T060000
END:STANDARD
END:VTIMEZONE
BEGIN:VEVENT
DTSTART;TZID=America/Kentucky/Louisville:20240326T080000
DTEND;TZID=America/Kentucky/Louisville:20240328T170000
DTSTAMP:20260425T121004
CREATED:20240202T210410Z
LAST-MODIFIED:20240202T210549Z
UID:1026578-1711440000-1711645200@allwork.space
SUMMARY:Workspace Expo : I LOVE MY WORKSPACE
DESCRIPTION:Just over 19\,000 visitors came to meet the 300 or so exhibitors and brands present. This represents a 23% increase in visitors compared to the 2022 edition and 5% if we consider 2019\, the show’s reference year. Workspace Expo confirms its status as the leading European BtoB trade show for furniture and workspace design in terms of offer and visitors. \nWorkspace Expo was an unexpected success in the face of the still uncertain health situation. Indeed\, more than 19 000visitors\, almost the same number as in 2021\, gathered to identify innovations and new products in the office sector. Final decision-makers\, buyers\, specifiers\, architects… met at the show\, a true crossroads for exchange and discussion\, for 3 days. \nA unique opportunity to meet with clients and prescribers\, i.e. the entire market. Workspace Expo is more than ever the place to perpetuate and develop your business.
URL:https://allwork.space/event/workspace-expo-i-love-my-workspace/
LOCATION:Parc des Expositions – Porte de Versailles\, 2 place de la Porte de Versailles\, Paris\, 75015
CATEGORIES:Workplace Design
ATTACH;FMTTYPE=image/jpeg:https://allwork.space/wp-content/uploads/2024/02/Workspace-Expo-I-LOVE-MY-WORKSPACE.jpg
END:VEVENT
END:VCALENDAR