BEGIN:VCALENDAR
VERSION:2.0
PRODID:-//Allwork.Space - ECPv6.0.10//NONSGML v1.0//EN
CALSCALE:GREGORIAN
METHOD:PUBLISH
X-WR-CALNAME:Allwork.Space
X-ORIGINAL-URL:https://allwork.space
X-WR-CALDESC:Events for Allwork.Space
REFRESH-INTERVAL;VALUE=DURATION:PT1H
X-Robots-Tag:noindex
X-PUBLISHED-TTL:PT1H
BEGIN:VTIMEZONE
TZID:America/Kentucky/Louisville
BEGIN:DAYLIGHT
TZOFFSETFROM:-0500
TZOFFSETTO:-0400
TZNAME:EDT
DTSTART:20250309T070000
END:DAYLIGHT
BEGIN:STANDARD
TZOFFSETFROM:-0400
TZOFFSETTO:-0500
TZNAME:EST
DTSTART:20251102T060000
END:STANDARD
END:VTIMEZONE
BEGIN:VEVENT
DTSTART;VALUE=DATE:20250312
DTEND;VALUE=DATE:20250314
DTSTAMP:20260424T123102
CREATED:20250213T184903Z
LAST-MODIFIED:20250213T184903Z
UID:1034005-1741737600-1741910399@allwork.space
SUMMARY:Gartner Digitak Workplace Summit in Grapevine\, Texas 2025
DESCRIPTION:The Gartner Digital Workplace Summit 2025 is scheduled for March 12–13\, 2025\, at the Gaylord Texan Hotel & Convention Center in Grapevine\, Texas. \nThis premier conference is designed for digital workplace leaders focused on enhancing the digital employee experience\, leveraging generative AI\, and improving technology adoption. Key topics include: \n\n\nLeading Employee Experiences: Strategies to boost teamwork and productivity through technology. \n\n\nEngineering the Integrated Digital Workplace: Building a cohesive environment that elevates digital employee experience and empowers employees. \n\n\nBalancing Governance Needs: Ensuring compliance while fostering innovation. \n\n\nDelivering Tailored Tech Solutions: Customizing technology to meet specific organizational needs. \n\n\nImproving Employee Adoption: Encouraging the effective use of new tools and technologies. \n\n\nAttendees will have the opportunity to connect with over 700 digital workplace leaders\, engage with more than 20 Gartner experts\, and explore solutions from over 60 providers. This event is essential for those aiming to empower employees and drive innovation in the digital workplace. \nLearn more & register: Gartner Digital Workplace Summit 2025
URL:https://allwork.space/event/gartner-digitak-workplace-summit-in-grapevine-texas-2025/
CATEGORIES:Leadership,Technology & Innovation
ATTACH;FMTTYPE=image/jpeg:https://allwork.space/wp-content/uploads/2025/02/Gartner-Digitak-Workplace-Summit-in-Grapevine-Texas-2025.jpg
END:VEVENT
BEGIN:VEVENT
DTSTART;VALUE=DATE:20250312
DTEND;VALUE=DATE:20250314
DTSTAMP:20260424T123102
CREATED:20250219T213043Z
LAST-MODIFIED:20250219T215407Z
UID:1034226-1741737600-1741910399@allwork.space
SUMMARY:World Workplace Europe 2025: Premier Facility Management Conference in The Hague
DESCRIPTION:Join Europe’s leading facility management professionals at World Workplace Europe 2025\, scheduled for March 12-13\, 2025\, at the Fokker Terminal in The Hague\, Netherlands. \nThis premier conference offers a unique platform for knowledge exchange\, networking\, and exploring the latest innovations in the built environment. \nAttendees will benefit from insightful educational sessions\, engaging panel discussions\, and opportunities to connect with industry experts. \nWhether you’re aiming to enhance operational efficiency\, promote sustainability\, or stay abreast of industry trends\, World Workplace Europe 2025 provides the tools and insights necessary to elevate your facilities and advance your career. \nDon’t miss this opportunity to be part of Europe’s most esteemed facility management event in the vibrant city of The Hague. \nLocation: Fokker Terminal\, Binckhorstlaan 249\, 2516 BB The Hague\, Netherlands \nDate: March 12-13\, 2025 \nWebsite: https://worldworkplaceeurope.ifma.org/
URL:https://allwork.space/event/world-workplace-europe-2025-premier-facility-management-conference-in-the-hague/
CATEGORIES:Leadership,Technology & Innovation
ATTACH;FMTTYPE=image/jpeg:https://allwork.space/wp-content/uploads/2025/02/World-Workplace-Europe-2025-Premier-Facility-Management-Conference-in-The-Hague.jpg
END:VEVENT
BEGIN:VEVENT
DTSTART;VALUE=DATE:20250313
DTEND;VALUE=DATE:20250314
DTSTAMP:20260424T123102
CREATED:20250217T215856Z
LAST-MODIFIED:20250217T215856Z
UID:1034155-1741824000-1741910399@allwork.space
SUMMARY:Coworking Switzerland's 10th Anniversary: Annual Meetup & General Assembly
DESCRIPTION:Celebrate a decade of coworking excellence at the Coworking Switzerland Annual Meetup & General Assembly on March 13\, 2025\, hosted at zentroom Bern\, conveniently located inside the railway station. This milestone event offers a unique opportunity for coworking enthusiasts\, space operators\, and community leaders to come together\, reflect on the journey\, and envision the future of coworking in Switzerland. \nEvent Highlights: \n\nNetworking Lunch (12:30–14:00): Kick off the day with an optional lunch to connect with peers and industry professionals.\nWelcome & Partner Presentation (14:15–14:45): Official opening remarks and insights from our partners.\nWorkshop: “Music Makes Your Brand Go WOW” (14:45–16:00): Led by Philipp Schweidler from TONIQ.ch\, explore how music can elevate your brand identity.\nBirthday Cake & Coffee Break (16:00–16:30): Celebrate our 10-year journey with a special cake-cutting ceremony.\nGeneral Assembly (16:30–17:30): Participate in discussions shaping the future of coworking in Switzerland.\nEvening Drinks (17:30 onwards): Continue networking at L’ovestino.\n\nWhether you’re a long-standing member or new to the community\, this event promises valuable insights\, collaborative opportunities\, and a celebration of our shared achievements. \n📅 Date: March 13\, 2025 📍 Location: zentroom Bern\, Bahnhofplatz 10B\, 3011 Bern 🔗 Learn More
URL:https://allwork.space/event/coworking-switzerlands-10th-anniversary-annual-meetup-general-assembly/
CATEGORIES:Coworking & Flex Office,Leadership
ATTACH;FMTTYPE=image/jpeg:https://allwork.space/wp-content/uploads/2025/02/Coworking-Switzerlands-10th-Anniversary-Annual-Meetup-General-Assembly.jpg
END:VEVENT
END:VCALENDAR