BEGIN:VCALENDAR
VERSION:2.0
PRODID:-//Allwork.Space - ECPv6.0.10//NONSGML v1.0//EN
CALSCALE:GREGORIAN
METHOD:PUBLISH
X-ORIGINAL-URL:https://allwork.space
X-WR-CALDESC:Events for Allwork.Space
REFRESH-INTERVAL;VALUE=DURATION:PT1H
X-Robots-Tag:noindex
X-PUBLISHED-TTL:PT1H
BEGIN:VTIMEZONE
TZID:America/Kentucky/Louisville
BEGIN:DAYLIGHT
TZOFFSETFROM:-0500
TZOFFSETTO:-0400
TZNAME:EDT
DTSTART:20250309T070000
END:DAYLIGHT
BEGIN:STANDARD
TZOFFSETFROM:-0400
TZOFFSETTO:-0500
TZNAME:EST
DTSTART:20251102T060000
END:STANDARD
END:VTIMEZONE
BEGIN:VEVENT
DTSTART;VALUE=DATE:20250316
DTEND;VALUE=DATE:20250324
DTSTAMP:20260424T123203
CREATED:20250221T175553Z
LAST-MODIFIED:20250221T175553Z
UID:1034295-1742083200-1742774399@allwork.space
SUMMARY:Nomad World Rio 2025: The Future of Remote Work & Digital Nomadism
DESCRIPTION:Nomad World Rio 2025 is the ultimate gathering for digital nomads\, remote professionals\, and entrepreneurs shaping the future of location-independent work. \nSet in the vibrant city of Rio de Janeiro\, this immersive event will feature expert-led sessions\, networking opportunities\, and insights on remote work trends\, business growth\, and global mobility. \nConnect with like-minded professionals\, explore new opportunities\, and gain strategies to thrive in the evolving remote work landscape. \nDon’t miss this chance to expand your network and elevate your career in one of the world’s most inspiring destinations. \nLocation: Rio de Janeiro | Brazil \nDate: March 16-23\, 2025 \nSee more: https://thenomadworld.org/rio-25/
URL:https://allwork.space/event/nomad-world-rio-2025-the-future-of-remote-work-digital-nomadism/
CATEGORIES:Entrepreneurship,Remote & Hybrid Work
ATTACH;FMTTYPE=image/jpeg:https://allwork.space/wp-content/uploads/2025/02/Nomad-World-Rio-2025-The-Future-of-Remote-Work-Digital-Nomadism.jpg
END:VEVENT
BEGIN:VEVENT
DTSTART;VALUE=DATE:20250318
DTEND;VALUE=DATE:20250319
DTSTAMP:20260424T123203
CREATED:20250314T060055Z
LAST-MODIFIED:20250314T201636Z
UID:1034914-1742256000-1742342399@allwork.space
SUMMARY:The Science-Backed Way to Beat Procrastination with with Marissa Boisvert and Ali Schiller
DESCRIPTION:NEW EPISODE\nJoin us on Tuesday\, March 18\, 2025\, for a special live discussion with Ali Schiller and Marissa Boisvert\, expert accountability coaches and co-founders of Accountability Works. In this latest episode of The Future of Work® Podcast\, we’re revisiting procrastination — how it has evolved over the past five years and the impact of remote work\, AI\, and digital distractions. Are we more productive\, or are we just finding new ways to procrastinate? Ali and Marissa bring their powerful framework\, Mindful Accountability™\, to help professionals and businesses take control of their time\, focus\, and follow-through. Whether you’re struggling with workplace distractions\, time management\, or simply feeling stuck\, this conversation will equip you with science-backed strategies to break free from procrastination and boost productivity in 2025.  \nWhat You’ll Learn \n\nHow procrastination has shifted in the workplace over the last five years. \nThe latest research on procrastination and emotional regulation. \nPractical strategies to manage procrastination in the age of AI and remote work. \nThe four types of procrastinators — do they still hold up in 2025? \nHow leaders can foster accountability and productivity in their teams — without micromanaging. \n\nAbout Ali Schiller and Marissa Boisvert\nAli Schiller and Marissa Boisvert are the co-founders of Accountability Works\, helping individuals and organizations achieve goals while maintaining well-being. Ali\, a mechanical engineer turned productivity expert\, specializes in structure\, systems\, and process design to help professionals translate intentions into action. Marissa\, a Certified Integrative Health Coach\, blends Mindfulness-Based Stress Reduction (MBSR) with behavioral science to create actionable strategies for focus and accountability. Together\, they developed Mindful Accountability™\, a framework that bridges the gap between intention and execution — helping professionals and businesses overcome procrastination once and for all.  \nDon’t miss this game-changing episode! Tune in on March 18\, 2025\, and start reclaiming your time.  \n 
URL:https://allwork.space/event/the-science-backed-way-to-beat-procrastination-with-with-marissa-boisvert-and-ali-schiller/
CATEGORIES:Workplace Wellness
ATTACH;FMTTYPE=image/jpeg:https://allwork.space/wp-content/uploads/2025/03/ALi-Schiller-and-Marissa-Boisvert.jpg
END:VEVENT
END:VCALENDAR