BEGIN:VCALENDAR
VERSION:2.0
PRODID:-//Allwork.Space - ECPv6.0.10//NONSGML v1.0//EN
CALSCALE:GREGORIAN
METHOD:PUBLISH
X-WR-CALNAME:Allwork.Space
X-ORIGINAL-URL:https://allwork.space
X-WR-CALDESC:Events for Allwork.Space
REFRESH-INTERVAL;VALUE=DURATION:PT1H
X-Robots-Tag:noindex
X-PUBLISHED-TTL:PT1H
BEGIN:VTIMEZONE
TZID:America/Kentucky/Louisville
BEGIN:DAYLIGHT
TZOFFSETFROM:-0500
TZOFFSETTO:-0400
TZNAME:EDT
DTSTART:20250309T070000
END:DAYLIGHT
BEGIN:STANDARD
TZOFFSETFROM:-0400
TZOFFSETTO:-0500
TZNAME:EST
DTSTART:20251102T060000
END:STANDARD
END:VTIMEZONE
BEGIN:VEVENT
DTSTART;VALUE=DATE:20250519
DTEND;VALUE=DATE:20250521
DTSTAMP:20260424T092008
CREATED:20250213T184506Z
LAST-MODIFIED:20250213T184506Z
UID:1034002-1747612800-1747785599@allwork.space
SUMMARY:Gartner Digital Workplace Summit In London 2025
DESCRIPTION:The Gartner Digital Workplace Summit 2025 is scheduled for May 19–20\, 2025\, at the InterContinental London – The O2 in London\, U.K. This premier conference is designed for digital workplace leaders focused on enhancing the digital employee experience\, leveraging generative AI\, and improving technology adoption. Key topics include: \n\n\nLeading Employee Experiences: Strategies to boost teamwork and productivity through technology. \n\n\nEngineering the Integrated Digital Workplace: Building a cohesive environment that elevates digital employee experience and empowers employees. \n\n\nBalancing Governance Needs: Ensuring compliance while fostering innovation. \n\n\nDelivering Tailored Tech Solutions: Customizing technology to meet specific organizational needs. \n\n\nImproving Employee Adoption: Encouraging the effective use of new tools and technologies. \n\n\nAttendees will have the opportunity to connect with over 1\,000 digital workplace leaders\, engage with more than 20 Gartner experts\, and explore solutions from over 50 providers. This event is essential for those aiming to empower employees and drive innovation in the digital workplace. \nLearn more & register: Gartner Digital Workplace Summit 2025
URL:https://allwork.space/event/gartner-digital-workplace-summit-in-london-2025/
CATEGORIES:Leadership,Technology & Innovation
ATTACH;FMTTYPE=image/jpeg:https://allwork.space/wp-content/uploads/2025/02/Gartner-Digital-Workplace-Summit-In-London-2025.jpg
END:VEVENT
BEGIN:VEVENT
DTSTART;VALUE=DATE:20250520
DTEND;VALUE=DATE:20250521
DTSTAMP:20260424T092008
CREATED:20250516T060026Z
LAST-MODIFIED:20250519T195352Z
UID:1036152-1747699200-1747785599@allwork.space
SUMMARY:How To Combat The 7 Self-Destructive Tendencies Holding You Back At Work With Vicky Oliver
DESCRIPTION:Join us this Tuesday  May 20th for a powerful new episode of The Future of Work® Podcast featuring Vicky Oliver\, bestselling author and renowned workplace expert. In this eye-opening conversation\, we explore the subtle (and not-so-subtle) ways we hold ourselves back at work—from imposter syndrome and fragility to tech anxiety and communication blunders. As the workforce continues to evolve\, learning how to get out of your own way is more critical than ever.  \nVicky draws from decades of experience and over 900 media appearances to offer actionable advice for professionals at every stage. Whether you’re new to the workforce\, managing others\, or navigating your next promotion\, this episode will leave you inspired and equipped to overcome the most damaging form of resistance—your own.  \nWhat You’ll Learn\n\nThe 7 key ways professionals self-sabotage at work \nHow to manage imposter syndrome and build confidence \nWhy workplace fragility is rising and how to toughen up \nThe role of tech anxiety in career stagnation \nWhy you may not need a mentor—but definitely need a plan \n\nAbout Vicky Oliver\nVicky Oliver is a leading career development expert and the bestselling author of five books on job interviewing\, office culture\, and business etiquette. She is the Nonfiction Editor at LIT Magazine and a highly sought-after speaker with over 900 media appearances. Vicky teaches at the New York Writers Workshop and regularly contributes career advice across global media platforms.  \n 
URL:https://allwork.space/event/how-to-combat-the-7-self-destructive-tendencies-holding-you-back-at-work-with-vicky-oliver/
CATEGORIES:Workplace Wellness
ATTACH;FMTTYPE=image/png:https://allwork.space/wp-content/uploads/2025/05/Vicky-Oliver-2.png
END:VEVENT
END:VCALENDAR