BEGIN:VCALENDAR
VERSION:2.0
PRODID:-//Allwork.Space - ECPv6.0.10//NONSGML v1.0//EN
CALSCALE:GREGORIAN
METHOD:PUBLISH
X-WR-CALNAME:Allwork.Space
X-ORIGINAL-URL:https://allwork.space
X-WR-CALDESC:Events for Allwork.Space
REFRESH-INTERVAL;VALUE=DURATION:PT1H
X-Robots-Tag:noindex
X-PUBLISHED-TTL:PT1H
BEGIN:VTIMEZONE
TZID:America/Kentucky/Louisville
BEGIN:DAYLIGHT
TZOFFSETFROM:-0500
TZOFFSETTO:-0400
TZNAME:EDT
DTSTART:20250309T070000
END:DAYLIGHT
BEGIN:STANDARD
TZOFFSETFROM:-0400
TZOFFSETTO:-0500
TZNAME:EST
DTSTART:20251102T060000
END:STANDARD
END:VTIMEZONE
BEGIN:VEVENT
DTSTART;VALUE=DATE:20250731
DTEND;VALUE=DATE:20250801
DTSTAMP:20260424T043316
CREATED:20250214T160809Z
LAST-MODIFIED:20250214T160809Z
UID:1034070-1753920000-1754006399@allwork.space
SUMMARY:WORKTECH25 Sydney: Navigating the Future of Work
DESCRIPTION:Join industry leaders at WORKTECH25 Sydney\, the premier conference exploring the future of work\, workplace innovation\, and technological advancements. \nScheduled for Thursday\, July 31\, 2025\, at the Telstra Customer Insight Centre\, Sydney\, this event delves into emerging trends\, workplace experience\, culture\, and data-driven strategies. \nNetwork with senior professionals from real estate\, facilities\, HR\, technology\, architecture\, and design. Stay ahead in the evolving workplace landscape.
URL:https://allwork.space/event/worktech25-sydney-navigating-the-future-of-work/
CATEGORIES:Technology & Innovation,Workplace Design
ATTACH;FMTTYPE=image/jpeg:https://allwork.space/wp-content/uploads/2025/02/WORKTECH25-Sydney-Navigating-the-Future-of-Work.jpg
END:VEVENT
END:VCALENDAR