BEGIN:VCALENDAR
VERSION:2.0
PRODID:-//Allwork.Space - ECPv6.0.10//NONSGML v1.0//EN
CALSCALE:GREGORIAN
METHOD:PUBLISH
X-ORIGINAL-URL:https://allwork.space
X-WR-CALDESC:Events for Allwork.Space
REFRESH-INTERVAL;VALUE=DURATION:PT1H
X-Robots-Tag:noindex
X-PUBLISHED-TTL:PT1H
BEGIN:VTIMEZONE
TZID:America/Kentucky/Louisville
BEGIN:DAYLIGHT
TZOFFSETFROM:-0500
TZOFFSETTO:-0400
TZNAME:EDT
DTSTART:20240310T070000
END:DAYLIGHT
BEGIN:STANDARD
TZOFFSETFROM:-0400
TZOFFSETTO:-0500
TZNAME:EST
DTSTART:20241103T060000
END:STANDARD
BEGIN:DAYLIGHT
TZOFFSETFROM:-0500
TZOFFSETTO:-0400
TZNAME:EDT
DTSTART:20250309T070000
END:DAYLIGHT
BEGIN:STANDARD
TZOFFSETFROM:-0400
TZOFFSETTO:-0500
TZNAME:EST
DTSTART:20251102T060000
END:STANDARD
END:VTIMEZONE
BEGIN:VEVENT
DTSTART;VALUE=DATE:20250819
DTEND;VALUE=DATE:20250820
DTSTAMP:20260423T025921
CREATED:20250814T221151Z
LAST-MODIFIED:20250814T221151Z
UID:1038168-1755561600-1755647999@allwork.space
SUMMARY:The Gen Z Workforce Revolution:  What Leaders  Need to Know
DESCRIPTION:Next week on The Future of Work® Podcast\, we explore how Gen Z is redefining everything from hiring and hustle to leadership and learning. Join us as Dr. Jasmine Escalera\, career expert and LinkedIn Top Voice\, reveals why this generation is not killing workplace culture — they’re rebuilding it. Through an eye-opening conversation\, we unpack the power shift from company loyalty to self-prioritization\, how TikTok is replacing resumes\, and what it means for HR\, higher education\, and leadership today.  \nJasmine brings a wealth of experience in hiring\, DEI\, and career empowerment\, and she’s helping professionals understand how to thrive in a rapidly changing landscape. As Gen Z becomes a dominant force in the workforce\, it’s time for leaders to listen\, adapt\, and evolve.  \nWhat You’ll Learn\n\nHow Gen Z is reshaping hiring through social media and personal branding \nWhy mentorship is the missing key to generational synergy at work \nHow AI is redefining job roles — and the skills needed to stay relevant \nWhat the decline of traditional education means for talent pipelines \nHow to create workplace cultures that prioritize mental health over hustle 
URL:https://allwork.space/event/the-gen-z-workforce-revolution-what-leaders-need-to-know/
CATEGORIES:Career Growth
ATTACH;FMTTYPE=image/jpeg:https://allwork.space/wp-content/uploads/2025/08/Dr.-Jasmine-Escalera.jpg
END:VEVENT
BEGIN:VEVENT
DTSTART;VALUE=DATE:20250729
DTEND;VALUE=DATE:20250730
DTSTAMP:20260423T025921
CREATED:20250718T214945Z
LAST-MODIFIED:20250722T022138Z
UID:1037542-1753747200-1753833599@allwork.space
SUMMARY:How AI Is Reshaping Freelance Work with Dave Bottoms
DESCRIPTION:Join us on Tuesday July 29 for a powerful new episode of The Future of Work® Podcast\, where we explore how AI is revolutionizing the freelance economy with Dave Bottoms\, SVP of Product & GM of Marketplace at Upwork. With decades of experience building products at Meta\, Dropbox\, and Yahoo\, Dave shares how platforms like Upwork are transforming into AI-enhanced ecosystems that empower solopreneurs\, freelancers\, and global teams.  \nThis conversation goes far beyond product updates. We discuss the future of agentic AI\, the rise of fractional executives\, and how businesses can now scale without ever hiring a full-time employee. Whether you’re building a team or building your own career\, this episode will change the way you think about work.  \nWhat You’ll Learn\n\nWhy freelancers need AI tools to compete \n\n\nHow Upwork’s UMA is transforming proposals and interviews \n\n\nThe growing role of fractional leaders in global companies \n\n\nHow AI can match the right talent with the right job—instantly \n\n\nWhat solopreneurs can learn from Upwork’s agentic model \n\nAbout Dave Bottoms\nDave Bottoms is SVP of Product & GM of Marketplace at Upwork\, leading product\, engineering\, marketing\, and design across the platform. With 20+ years of experience at Meta\, Dropbox\, and Yahoo\, Dave has overseen the development of products used by millions. In this conversation with podcast host Frank Cottle\, CEO of Alliance Business Centers\, Dave shares what’s next in AI-enabled work and why Upwork is betting big on a borderless\, freelance-first future. 
URL:https://allwork.space/event/how-ai-is-reshaping-freelance-work-with-dave-bottoms-2/
CATEGORIES:Career Growth
ATTACH;FMTTYPE=image/jpeg:https://allwork.space/wp-content/uploads/2025/07/How-AI-Is-Reshaping-Freelance-Work-with-Dave-Bottoms-2.jpg
END:VEVENT
BEGIN:VEVENT
DTSTART;VALUE=DATE:20241210
DTEND;VALUE=DATE:20241211
DTSTAMP:20260423T025921
CREATED:20241206T203417Z
LAST-MODIFIED:20241206T205754Z
UID:1032777-1733788800-1733875199@allwork.space
SUMMARY:Why Green Skills Are the New Job Currency with Neil Yeoh | New Episode on the Future of Work® Podcast
DESCRIPTION:Mark your calendars for an inspiring and insightful podcast episode on Tuesday\, December 10\, 2024\, featuring Neil Yeoh\, the visionary Founder & CEO of OnePointFive and a Forbes Next 1000 honoree.   \nThis episode of The Future of Work® Podcast explores the critical intersection of sustainability and the modern workforce. With over a decade of experience in climate leadership\, impact investing\, and entrepreneurship\, Neil offers a fresh perspective on embedding green skills into careers and businesses across industries.  \nJoin us as Neil unpacks what it truly means to “go green” in today’s evolving work landscape. From challenging popular misconceptions about electric vehicles to exploring the untapped potential of everyday green skills\, this is your chance to learn how sustainability is shaping workforce trends\, business practices\, and global innovation.   \nWhether you’re an employee\, leader\, or student\, this conversation will inspire you to think differently about sustainability and its transformative impact on your career and community.  \nWhat You’ll Learn:  \n\nRedefining Green – Understand what “green” really means\, from practical skills to global impact. \nGreen Skills You Already Have – Discover how roles in IT\, marketing\, and supply chain management contribute to sustainability goals. \nAccountability in Sustainability – Learn about the challenges and opportunities in carbon accounting and emerging standards like CSRD. \nFuture-Proofing with Green – See how embedding sustainability skills can boost career opportunities and business resilience. \nActionable Steps for Everyone – Gain insights into simple\, impactful ways to educate yourself and get started on your sustainability journey. \n\nDon’t miss this opportunity to learn from one of the foremost leaders in the green workforce movement. Let’s pave the way for a sustainable future together! 
URL:https://allwork.space/event/why-green-skills-are-the-new-job-currency-with-neil-yeoh-new-episode-on-the-future-of-work-podcast/
CATEGORIES:Career Growth
ATTACH;FMTTYPE=image/jpeg:https://allwork.space/wp-content/uploads/2024/12/Neil-Yeoh.jpg
END:VEVENT
END:VCALENDAR