BEGIN:VCALENDAR
VERSION:2.0
PRODID:-//Allwork.Space - ECPv6.0.10//NONSGML v1.0//EN
CALSCALE:GREGORIAN
METHOD:PUBLISH
X-WR-CALNAME:Allwork.Space
X-ORIGINAL-URL:https://allwork.space
X-WR-CALDESC:Events for Allwork.Space
REFRESH-INTERVAL;VALUE=DURATION:PT1H
X-Robots-Tag:noindex
X-PUBLISHED-TTL:PT1H
BEGIN:VTIMEZONE
TZID:America/Kentucky/Louisville
BEGIN:DAYLIGHT
TZOFFSETFROM:-0500
TZOFFSETTO:-0400
TZNAME:EDT
DTSTART:20220313T070000
END:DAYLIGHT
BEGIN:STANDARD
TZOFFSETFROM:-0400
TZOFFSETTO:-0500
TZNAME:EST
DTSTART:20221106T060000
END:STANDARD
TZID:Australia/Sydney
BEGIN:STANDARD
TZOFFSETFROM:+1100
TZOFFSETTO:+1000
TZNAME:AEST
DTSTART:20220402T160000
END:STANDARD
BEGIN:DAYLIGHT
TZOFFSETFROM:+1000
TZOFFSETTO:+1100
TZNAME:AEDT
DTSTART:20221001T160000
END:DAYLIGHT
END:VTIMEZONE
BEGIN:VEVENT
DTSTART;VALUE=DATE:20220322
DTEND;VALUE=DATE:20220324
DTSTAMP:20260424T191919
CREATED:20211208T172131Z
LAST-MODIFIED:20211210T202016Z
UID:1007615-1647907200-1648079999@allwork.space
SUMMARY:CREtech San Diego
DESCRIPTION:Join us in San Diego on March 22nd and 23rd for two days of the most exciting in-person event in the world of real estate technology and innovation. No other event brings together so many landlords\, asset managers\, brokerages\, construction companies\, tech startups\, venture capitals\, thought-leaders\, and more all under one massive roof. \nExperience the largest trade show\, most strategic networking opportunities\, and world-class content covering every industry food group including office\, multifamily\, single-family\, construction\, retail\, logistics\, and hospitality in a fast-paced\, electric environment. \nAt CREtech\, we bring the entire industry together to experience\, network\, and learn about how innovation and technology are transforming the built world.
URL:https://allwork.space/event/cretech-san-diego/
LOCATION:San Diego Convention Center\, 111 W Harbor Dr\, San Diego\, CA\, United States
CATEGORIES:Coworking & Flex Office,CRE,Leadership,Technology & Innovation
ATTACH;FMTTYPE=image/png:https://allwork.space/wp-content/uploads/2021/12/CRE-Tech-SD.png
END:VEVENT
BEGIN:VEVENT
DTSTART;VALUE=DATE:20220323
DTEND;VALUE=DATE:20220324
DTSTAMP:20260424T191919
CREATED:20211201T174516Z
LAST-MODIFIED:20211210T201434Z
UID:1007229-1647993600-1648079999@allwork.space
SUMMARY:Future of Office Space Summit
DESCRIPTION:The Future of Office Space Summit is an exclusive event consisting of top-level content and thought leadership discussions exploring the office market. It’s where owners\, managers\, brokers\, investors\, and solution providers can come together to access the most up-to-date and credible knowledge delivered by local and international experts. \nIf you really want to know what the future holds for the office market – the stuff you can’t Google\, then this is where you’ll get it?
URL:https://allwork.space/event/future-of-office-space-summit/
LOCATION:Sheraton Hyde Park Sydney\, 161 Elizabeth St\, Sydney\, 2000\, Australia
CATEGORIES:Coworking & Flex Office,CRE,Remote & Hybrid Work
ATTACH;FMTTYPE=image/png:https://allwork.space/wp-content/uploads/2021/12/future-of-office-event.png
END:VEVENT
BEGIN:VEVENT
DTSTART;VALUE=DATE:20220325
DTEND;VALUE=DATE:20220326
DTSTAMP:20260424T191919
CREATED:20220224T003042Z
LAST-MODIFIED:20220224T004715Z
UID:1009937-1648166400-1648252799@allwork.space
SUMMARY:Coworking Convo: Nailing Your Tours
DESCRIPTION:How can you absolutely nail your tours and get visitors to convert to paying clients? Let’s chat about it. \nJoin us for a free\, informal\, community conversation with fellow workspace operators and coworking pros. The Convo will be moderated by content strategist and creator Cat Johnson. \nWe’ll kick things off with tips and insights from several workspace operators. Then we’ll open the conversation to the community to share questions\, ideas\, and resources.
URL:https://allwork.space/event/coworking-convo-nailing-your-tours/
CATEGORIES:Coworking & Flex Office,Entrepreneurship,Marketing & Sales,Remote & Hybrid Work
ATTACH;FMTTYPE=image/jpeg:https://allwork.space/wp-content/uploads/2022/02/Nailing-your-tours.jpg
END:VEVENT
BEGIN:VEVENT
DTSTART;VALUE=DATE:20220328
DTEND;VALUE=DATE:20220331
DTSTAMP:20260424T191919
CREATED:20220125T174746Z
LAST-MODIFIED:20220125T224901Z
UID:1009082-1648425600-1648684799@allwork.space
SUMMARY:Future Offices Winter
DESCRIPTION:This years theme\, Changing Opportunities for the Workplace\, focuses on the idea that “One Size\, Shape\, and Location Does Not Fit All” and that it was truly put to the test during the past 18 months. \nOffice real estate changed dramatically as entire cities and regions shut down almost entirely. Work-from-home became the norm for many and changed the way the workplace space is viewed\, whether at home\, an office or a retail location. \nNow as businesses begin to reopen\, new strategies are being put in place to woo workers back in person with safety and wellness\, location considerations\, and new perks and amenities; to accommodate personnel with hybrid models or co-working\, and allow certain positions to continue to work from home. Safety and wellness\, innovative designs\, governance\, human resources support and advanced technology are keys to making these new opportunities work.
URL:https://allwork.space/event/future-offices-winter-2/
LOCATION:TBD\, TBD\, Berlin\, Germany
CATEGORIES:Coworking & Flex Office,Human Resources,Technology & Innovation,Workplace Wellness
ATTACH;FMTTYPE=image/png:https://allwork.space/wp-content/uploads/https://res.cloudinary.com/allwork-space/images/v1643132808/wordpress/Future-Offices-Winter/Future-Offices-Winter.png
END:VEVENT
END:VCALENDAR