BEGIN:VCALENDAR
VERSION:2.0
PRODID:-//Allwork.Space - ECPv6.0.10//NONSGML v1.0//EN
CALSCALE:GREGORIAN
METHOD:PUBLISH
X-ORIGINAL-URL:https://allwork.space
X-WR-CALDESC:Events for Allwork.Space
REFRESH-INTERVAL;VALUE=DURATION:PT1H
X-Robots-Tag:noindex
X-PUBLISHED-TTL:PT1H
BEGIN:VTIMEZONE
TZID:Europe/London
BEGIN:DAYLIGHT
TZOFFSETFROM:+0000
TZOFFSETTO:+0100
TZNAME:BST
DTSTART:20220327T010000
END:DAYLIGHT
BEGIN:STANDARD
TZOFFSETFROM:+0100
TZOFFSETTO:+0000
TZNAME:GMT
DTSTART:20221030T010000
END:STANDARD
TZID:America/Kentucky/Louisville
BEGIN:DAYLIGHT
TZOFFSETFROM:-0500
TZOFFSETTO:-0400
TZNAME:EDT
DTSTART:20220313T070000
END:DAYLIGHT
BEGIN:STANDARD
TZOFFSETFROM:-0400
TZOFFSETTO:-0500
TZNAME:EST
DTSTART:20221106T060000
END:STANDARD
END:VTIMEZONE
BEGIN:VEVENT
DTSTART;TZID=Europe/London:20220920T130000
DTEND;TZID=Europe/London:20220920T210000
DTSTAMP:20260424T115953
CREATED:20220809T180751Z
LAST-MODIFIED:20220901T142327Z
UID:1015160-1663678800-1663707600@allwork.space
SUMMARY:FlexWorld 2022
DESCRIPTION:OfficeRnD’s FlexWorld is an event dedicated to the opportunities and challenges of the coworking and flex space industry and hybrid work. Become part of the first hybrid edition by attending in person OR online\, for free. For those joining us onsite in London\, you will have the opportunity to enter a raffle and win some cool prizes!
URL:https://allwork.space/event/flexworld-2022/
LOCATION:The Loading Bay\, 25 Luke St\, London\, EC2A 4DS\, United Kingdom
CATEGORIES:Coworking & Flex Office,Leadership
ATTACH;FMTTYPE=image/jpeg:https://allwork.space/wp-content/uploads/2022/08/FLEXWORLD-2022.jpg
END:VEVENT
BEGIN:VEVENT
DTSTART;VALUE=DATE:20220921
DTEND;VALUE=DATE:20220924
DTSTAMP:20260424T115953
CREATED:20220819T033503Z
LAST-MODIFIED:20220819T033503Z
UID:1015533-1663718400-1663977599@allwork.space
SUMMARY:GWA Flex Forward Conference
DESCRIPTION:The GWA Conference is the premier event for the Daytime Hospitality industry. It is where the most comprehensive and sophisticated conversations around the future of flexible office happen. Each year\, The GWA Conference brings together a cross-section of workspace innovators to glimpse into the future\, share best practices\, build relationships\, and get inspired.
URL:https://allwork.space/event/gwa-flex-forward-conference/
CATEGORIES:Coworking & Flex Office
ATTACH;FMTTYPE=image/png:https://allwork.space/wp-content/uploads/2022/08/GWA-FRISCO.png
END:VEVENT
BEGIN:VEVENT
DTSTART;VALUE=DATE:20220922
DTEND;VALUE=DATE:20220923
DTSTAMP:20260424T115953
CREATED:20220518T230116Z
LAST-MODIFIED:20220518T230117Z
UID:1012437-1663804800-1663891199@allwork.space
SUMMARY:WORKTECH 2022 New York
DESCRIPTION:WORKTECH22 New York is the conference for all those involved in the future of work and the workplace as well as real estate\, technology\, and innovation. WORKTECH brings innovative ideas and inspiration to the workplace community through inter-disciplinary speakers and learning experiences to enhance creativity and move thinking forward.\nWORKTECH speakers are leading international thinkers\, industry strategists\, and radical visionaries. Our speakers come from some of today’s most successful companies as well as a broad range of progressive and influential organizations.\n\nJoin 200 senior professionals from real estate\, facilities\, HR\, technology\, executive management\, architecture\, design\, and professional advisors in person and listen to global thought leaders\, share knowledge\, best practice\, and expertise on the future of work.
URL:https://allwork.space/event/worktech-2022-new-york/
LOCATION:Accenture Innovation Hub\, One Manhattan West\, 395 9th Ave\, New York\, NY\, New York City\, NY\, 10001\, United States
CATEGORIES:Coworking & Flex Office,Leadership
ATTACH;FMTTYPE=image/jpeg:https://allwork.space/wp-content/uploads/2022/05/worktech-new-york.jpg
END:VEVENT
BEGIN:VEVENT
DTSTART;VALUE=DATE:20220928
DTEND;VALUE=DATE:20220929
DTSTAMP:20260424T115953
CREATED:20220831T150047Z
LAST-MODIFIED:20220831T150047Z
UID:1016000-1664323200-1664409599@allwork.space
SUMMARY:GCUC UK
DESCRIPTION:GCUC will focus on “The Evolution of the Workplace”\, with expert speakers\, leading suppliers and visionaries from the sector.
URL:https://allwork.space/event/gcuc-uk-2/
LOCATION:Convene London\, 22 Bishopsgate\, London\, EC2N 4BQ\, United Kingdom
CATEGORIES:Coworking & Flex Office
ATTACH;FMTTYPE=image/jpeg:https://allwork.space/wp-content/uploads/2022/08/GCUC-UK.jpg
END:VEVENT
BEGIN:VEVENT
DTSTART;VALUE=DATE:20220928
DTEND;VALUE=DATE:20221001
DTSTAMP:20260424T115953
CREATED:20220831T160029Z
LAST-MODIFIED:20220831T160029Z
UID:1016016-1664323200-1664582399@allwork.space
SUMMARY:IFMA's World Workplace
DESCRIPTION:Build your professional network\, have an unforgettable experience and learn from the best thought-leaders in facility management.
URL:https://allwork.space/event/ifmas-world-workplace/
LOCATION:Music City Center\, Nashville\, United States
CATEGORIES:Coworking & Flex Office
ATTACH;FMTTYPE=image/jpeg:https://allwork.space/wp-content/uploads/2022/08/world-workplace.jpg
END:VEVENT
BEGIN:VEVENT
DTSTART;VALUE=DATE:20220930
DTEND;VALUE=DATE:20221001
DTSTAMP:20260424T115953
CREATED:20220821T022958Z
LAST-MODIFIED:20220901T142436Z
UID:1015611-1664496000-1664582399@allwork.space
SUMMARY:Convo: PR Strategies for Coworking Spaces
DESCRIPTION:What PR stratagies can you use to better promote your coworking space? \nLet’s chat about it. \nJoin us for a free\, informal\, community conversation with fellow workspace operators and coworking pros. \nThe Convo will be moderated by content strategist and creator Cat Johnson. \nWe’ll kick things off with tips and insights from several workspace operators. Then we’ll open the conversation to the community to share questions\, ideas and resources. \nWho should attend? \n\nWorkspace operators\nCommunity managers\nCoworking space marketing teams\n\nWhat should you bring? \n\nIdeas\, insights and strategies\nQuestions for other workspace operators\nA spirit of collaboration and cooperation\n\nOnce you register\, you’ll receive a Zoom link to participate in the conversation.
URL:https://allwork.space/event/convo-pr-strategies-for-coworking-spaces/
CATEGORIES:Coworking & Flex Office,Marketing & Sales
ATTACH;FMTTYPE=image/png:https://allwork.space/wp-content/uploads/2022/08/PR-Strategies-for-Coworking-Spaces.png
END:VEVENT
END:VCALENDAR