BEGIN:VCALENDAR
VERSION:2.0
PRODID:-//Allwork.Space - ECPv6.0.10//NONSGML v1.0//EN
CALSCALE:GREGORIAN
METHOD:PUBLISH
X-WR-CALNAME:Allwork.Space
X-ORIGINAL-URL:https://allwork.space
X-WR-CALDESC:Events for Allwork.Space
REFRESH-INTERVAL;VALUE=DURATION:PT1H
X-Robots-Tag:noindex
X-PUBLISHED-TTL:PT1H
BEGIN:VTIMEZONE
TZID:America/Kentucky/Louisville
BEGIN:DAYLIGHT
TZOFFSETFROM:-0500
TZOFFSETTO:-0400
TZNAME:EDT
DTSTART:20230312T070000
END:DAYLIGHT
BEGIN:STANDARD
TZOFFSETFROM:-0400
TZOFFSETTO:-0500
TZNAME:EST
DTSTART:20231105T060000
END:STANDARD
END:VTIMEZONE
BEGIN:VEVENT
DTSTART;TZID=America/Kentucky/Louisville:20230526T120000
DTEND;TZID=America/Kentucky/Louisville:20230526T130000
DTSTAMP:20260423T183647
CREATED:20230512T171021Z
LAST-MODIFIED:20230512T171021Z
UID:1021776-1685102400-1685106000@allwork.space
SUMMARY:Convo: Attracting Different Generations to Your Coworking Space
DESCRIPTION:Attracting different generations to your coworking space can be a challenge. How can you market your space and create a sense of community that appeals to different age groups? \n​Let’s chat about it. \n​Join us for a free\, informal\, community conversation with fellow workspace operators and coworking pros. \n​The Convo will be moderated by content strategist and creator Cat Johnson. \n​We’ll kick things off with tips and insights from several workspace operators. Then we’ll open the conversation to the community to share questions\, ideas and resources. \n​Who should attend? \n\n​Workspace operators\n​Community managers\n​Coworking space marketing teams\n\nWhat should you bring? \n\n​Ideas\, insights and strategies\n​Questions for other workspace operators\n​A spirit of collaboration and cooperation.
URL:https://allwork.space/event/convo-attracting-different-generations-to-your-coworking-space/
LOCATION:Zoom
CATEGORIES:Coworking & Flex Office,Leadership,Remote & Hybrid Work
ATTACH;FMTTYPE=image/png:https://allwork.space/wp-content/uploads/2023/05/CoworkingConvos.png
END:VEVENT
END:VCALENDAR