BEGIN:VCALENDAR
VERSION:2.0
PRODID:-//Allwork.Space - ECPv6.0.10//NONSGML v1.0//EN
CALSCALE:GREGORIAN
METHOD:PUBLISH
X-ORIGINAL-URL:https://allwork.space
X-WR-CALDESC:Events for Allwork.Space
REFRESH-INTERVAL;VALUE=DURATION:PT1H
X-Robots-Tag:noindex
X-PUBLISHED-TTL:PT1H
BEGIN:VTIMEZONE
TZID:America/Kentucky/Louisville
BEGIN:DAYLIGHT
TZOFFSETFROM:-0500
TZOFFSETTO:-0400
TZNAME:EDT
DTSTART:20240310T070000
END:DAYLIGHT
BEGIN:STANDARD
TZOFFSETFROM:-0400
TZOFFSETTO:-0500
TZNAME:EST
DTSTART:20241103T060000
END:STANDARD
TZID:America/New_York
BEGIN:DAYLIGHT
TZOFFSETFROM:-0500
TZOFFSETTO:-0400
TZNAME:EDT
DTSTART:20240310T070000
END:DAYLIGHT
BEGIN:STANDARD
TZOFFSETFROM:-0400
TZOFFSETTO:-0500
TZNAME:EST
DTSTART:20241103T060000
END:STANDARD
END:VTIMEZONE
BEGIN:VEVENT
DTSTART;TZID=America/Kentucky/Louisville:20240508T080000
DTEND;TZID=America/Kentucky/Louisville:20240509T170000
DTSTAMP:20260422T221238
CREATED:20240228T181821Z
LAST-MODIFIED:20240228T181821Z
UID:1027187-1715155200-1715274000@allwork.space
SUMMARY:IMMERSIVE 2024
DESCRIPTION:Their Immersive event is your behind-the-scenes opportunity to experience and engage with key players offering best-in-class hospitality in the flex space industry. Over the course of one and a half days\, attendees will have the opportunity to hear thought-provoking panel discussions\, get an inside look at unique flex spaces through private guided tours\, and connect with speakers and fellow attendees through multiple networking opportunities. \n\n\nDay One\n\n\n\n\n\nImmersive 2024 kickstarts with a networking breakfast\, setting the stage for a day of insightful sessions and panels. Attendees will participate in conversations over the latest in tech and tools\, followed by an engaging events panel. Post a networking lunch\, enjoy an exclusive tour of Ampersand\, and immerse yourself in specialized design and sales sessions. We will conclude with a captivating closing session and an exciting networking reception\, perfect for forging new connections. \n\n\nDay Two\n\n\n\n\n\nDay 2 of Immersive 2024 offers a unique journey through Nashville’s vibrant coworking spaces. Experience the diversity and innovation of local workspaces\, gaining insights and inspiration at every stop. The event culminates with a networking lunch\, providing one last opportunity to connect with peers and reflect on the enriching experiences of the past two days.
URL:https://allwork.space/event/immersive-2024/
LOCATION:Ampersand Studios\, Music Row 1030 16th avenue (2nd Floor)\, Tennesse\, 37212\, United States
CATEGORIES:Coworking & Flex Office
ATTACH;FMTTYPE=image/jpeg:https://allwork.space/wp-content/uploads/2024/02/IMMERSIVE-2024-.jpg
END:VEVENT
BEGIN:VEVENT
DTSTART;TZID=America/New_York:20240521T080000
DTEND;TZID=America/New_York:20240521T170000
DTSTAMP:20260422T221238
CREATED:20240515T175858Z
LAST-MODIFIED:20240515T175858Z
UID:1028720-1716278400-1716310800@allwork.space
SUMMARY:FlexWorld Series 2024
DESCRIPTION:FlexWorld Series 2024 is the most innovative and groundbreaking coworking conference of the year. \nDesigned to unleash the latest trends\, strategies\, and technologies shaping the future of the flexible workspaces\, FlexWorld is a gathering of some of the most forward-thinking industry leaders\, workspace operators\, innovators\, and professionals from around the globe. \nSo whether you’re a seasoned flex workspace operator\, or a business leader navigating the future of work in these unchartered waters\, FlexWorld Series 2024 will offer invaluable insights and inspiration to help you and your organization thrive in this rapidly evolving world of flexible workspaces.
URL:https://allwork.space/event/flexworld-series-2024/
CATEGORIES:Coworking & Flex Office
ATTACH;FMTTYPE=image/jpeg:https://allwork.space/wp-content/uploads/2024/05/FlexWorld-Series-2024.jpg
END:VEVENT
BEGIN:VEVENT
DTSTART;TZID=America/Kentucky/Louisville:20240531T120000
DTEND;TZID=America/Kentucky/Louisville:20240531T130000
DTSTAMP:20260422T221238
CREATED:20240430T201032Z
LAST-MODIFIED:20240430T201032Z
UID:1028464-1717156800-1717160400@allwork.space
SUMMARY:Convo: How to Give Great Tours of Your Coworking Space
DESCRIPTION:Giving great tours of your space is essential to attracting perfect-fit members and boosting your conversion rate. \n​So how do you give a great tour? \nYou’ll chat about it! \n​​Join them for a free\, informal\, community conversation with fellow workspace operators and coworking pros around the world. \nTheir Convos guests will kick things off with their best tips\, insights and strategies to attract office members who are active\, engaged and reliable. Then they’ll open the conversation up to share your tips\, ideas\, strategies and questions. \n​​Who should attend? \n\n​​Coworking space operators\n​​Community managers\n​​Workspace teams\n​​Coworking brand builders\n\n​​What should you bring? \n\n​​Ideas\, insights and strategies\n​​Questions for other workspace operators\n​​A spirit of collaboration and cooperation\n\n​​Coworking Convos are hosted by Cat Johnson.
URL:https://allwork.space/event/convo-how-to-give-great-tours-of-your-coworking-space/
CATEGORIES:Coworking & Flex Office
ATTACH;FMTTYPE=image/jpeg:https://allwork.space/wp-content/uploads/2024/04/Convo-How-to-Give-Great-Tours-of-Your-Coworking-Space.jpg
END:VEVENT
END:VCALENDAR