BEGIN:VCALENDAR
VERSION:2.0
PRODID:-//Allwork.Space - ECPv6.0.10//NONSGML v1.0//EN
CALSCALE:GREGORIAN
METHOD:PUBLISH
X-ORIGINAL-URL:https://allwork.space
X-WR-CALDESC:Events for Allwork.Space
REFRESH-INTERVAL;VALUE=DURATION:PT1H
X-Robots-Tag:noindex
X-PUBLISHED-TTL:PT1H
BEGIN:VTIMEZONE
TZID:America/Kentucky/Louisville
BEGIN:DAYLIGHT
TZOFFSETFROM:-0500
TZOFFSETTO:-0400
TZNAME:EDT
DTSTART:20240310T070000
END:DAYLIGHT
BEGIN:STANDARD
TZOFFSETFROM:-0400
TZOFFSETTO:-0500
TZNAME:EST
DTSTART:20241103T060000
END:STANDARD
END:VTIMEZONE
BEGIN:VEVENT
DTSTART;TZID=America/Kentucky/Louisville:20240620T083000
DTEND;TZID=America/Kentucky/Louisville:20240621T160000
DTSTAMP:20260422T204032
CREATED:20240429T163259Z
LAST-MODIFIED:20240429T172949Z
UID:1028423-1718872200-1718985600@allwork.space
SUMMARY:Embracing The Hybrid Evolution: Coworking London Conference 2024
DESCRIPTION:The Coworking London Conference takes place across multiple creative\, flexible spaces over 2 days. \nThey connect global workplace specialists\, operators\, landlords\, facility managers\, decision-makers and trendsetters in architecture/interior design/technology. Together\, you will discuss the current and future trends of coworking and the flexible office market. \nDay 1 features 3 sessions each in the morning and 3 sessions in the afternoon across 2 venues. \nDay 2 features the choice of 3 workplace tours across London: East London\, Central London or Hammersmith Tours. \nInterested in participating as a Sponsor\, Speaker or Venue Partner\, email emarketing@eoffice.net.
URL:https://allwork.space/event/embracing-the-hybrid-evolution-coworking-london-conference-2024/
LOCATION:Fora – Chancery House\, 53-64 Chancery Lane Event Space\, London\, WC2A 1QS\, United Kingdom
CATEGORIES:Coworking & Flex Office
ATTACH;FMTTYPE=image/jpeg:https://allwork.space/wp-content/uploads/2024/04/Embracing-The-Hybrid-Evolution-Coworking-London-Conference-2024Generative-AI-Tool-Use-Growing-Rapidly-Over-3-billion-Monthly-Visits-to-Top-100-AI-Tools-for-Work-1.jpg
END:VEVENT
BEGIN:VEVENT
DTSTART;TZID=America/Kentucky/Louisville:20240628T120000
DTEND;TZID=America/Kentucky/Louisville:20240628T130000
DTSTAMP:20260422T204032
CREATED:20240610T221301Z
LAST-MODIFIED:20240610T221301Z
UID:1029249-1719576000-1719579600@allwork.space
SUMMARY:Convo: Creative Marketing Strategies for your Coworking Space
DESCRIPTION:Marketing a coworking space is tricky. \n​So what are some creative marketing strategies that could work for you in your town? \nYou’ll chat about it! \n​​Join them for a free\, informal\, community conversation with fellow workspace operators and coworking pros around the world. \n​​Their Convos guests will kick things off with their best tips\, insights and strategies. Then they’ll open the conversation up. \n​​Who should attend?\n\n​​Coworking space operators\n​​Community managers\n​​Workspace teams\n​​Coworking brand builders\n\n​​What should you bring?\n\n​​Ideas\, insights and strategies\n​​Questions for other workspace operators\n​​A spirit of collaboration and cooperation\n\n​​Coworking Convos are hosted by Cat Johnson.
URL:https://allwork.space/event/convo-creative-marketing-strategies-for-your-coworking-space/
CATEGORIES:Coworking & Flex Office
ATTACH;FMTTYPE=image/jpeg:https://allwork.space/wp-content/uploads/2024/06/Convo-Creative-Marketing-Strategies-for-your-Coworking-Space.jpg
END:VEVENT
END:VCALENDAR