BEGIN:VCALENDAR
VERSION:2.0
PRODID:-//Allwork.Space - ECPv6.0.10//NONSGML v1.0//EN
CALSCALE:GREGORIAN
METHOD:PUBLISH
X-WR-CALNAME:Allwork.Space
X-ORIGINAL-URL:https://allwork.space
X-WR-CALDESC:Events for Allwork.Space
REFRESH-INTERVAL;VALUE=DURATION:PT1H
X-Robots-Tag:noindex
X-PUBLISHED-TTL:PT1H
BEGIN:VTIMEZONE
TZID:America/Kentucky/Louisville
BEGIN:DAYLIGHT
TZOFFSETFROM:-0500
TZOFFSETTO:-0400
TZNAME:EDT
DTSTART:20240310T070000
END:DAYLIGHT
BEGIN:STANDARD
TZOFFSETFROM:-0400
TZOFFSETTO:-0500
TZNAME:EST
DTSTART:20241103T060000
END:STANDARD
END:VTIMEZONE
BEGIN:VEVENT
DTSTART;VALUE=DATE:20241008
DTEND;VALUE=DATE:20241009
DTSTAMP:20260422T140028
CREATED:20241004T170720Z
LAST-MODIFIED:20241004T170721Z
UID:1031754-1728345600-1728431999@allwork.space
SUMMARY:Will Sandford\, Director of Coworking at Yardi joins the Future of Work Podcast | New Episode!
DESCRIPTION:Join us on Tuesday\, October 8\, 2024\, for an insightful new episode of The Future of Work® Podcast. \nThis immersive experience will delve into the rapidly evolving world of flexible workspaces and their transformative effects on commercial real estate. Featuring Will Sandford\, Director of Coworking at Yardi\, this event is designed for professionals\, real estate developers\, and business leaders eager to stay ahead of the curve in this industry. \nWe’ll explore the rise in demand for coworking spaces\, the influx of enterprise clients\, and how technology is reshaping office strategies for the future. You will also gain a behind-the-scenes look at Yardi’s strategic investments in the coworking space and what they signify for the next wave of office design and usage. \nThis is an episode you won’t want to miss if you’re ready to embrace the future of work. \nKey Takeaways: \n\nHow the coworking trend is transforming commercial real estate.\nThe growing role of enterprise clients in flexible office solutions.\nThe impact of data and technology on real estate strategy and design.\nYardi’s long-term vision and investment in the coworking sector.\nInsights into whether flexible offices will become the new business standard.\n\nIn the meantime\, tune in to recent conversations we’ve had with other experts\, visionaries and thought leaders:
URL:https://allwork.space/event/redefining-workspaces-the-future-of-coworking-and-commercial-real-estate-2/
CATEGORIES:Coworking & Flex Office,CRE
ATTACH;FMTTYPE=image/jpeg:https://allwork.space/wp-content/uploads/2024/10/Will-Sandford.jpg
END:VEVENT
BEGIN:VEVENT
DTSTART;VALUE=DATE:20241010
DTEND;VALUE=DATE:20241012
DTSTAMP:20260422T140028
CREATED:20240611T160026Z
LAST-MODIFIED:20240611T160238Z
UID:1029264-1728518400-1728691199@allwork.space
SUMMARY:GCUC United Kingdom
DESCRIPTION:Join The Movement\nAre you ready to be part of the revolution that’s shaping the future of work? Look no further than GCUC UK this October. It will be the ultimate gathering of decision-makers and game-changers in the coworking and flexible workspace industry. \nThis conference is not just any ordinary event – it’s a transformative experience packed with expert insights\, visionary conversations\, educational programming\, breakouts\, and networking opportunities. GCUC is the largest Coworking Conference series in the world. Get inspired\, meet influential people\, shape the future of work. \nWhy should you be at GCUC UK?\nOne of their favourite aspects of GCUC is the wide range of attendees. From those new to the coworking scene\, to seasoned industry experts\, operators with over 10 years of experience\, venture capitalists\, investors\, and real estate giants – their community is diverse\, stimulating and inspiring. It’s this vibrant mix that fuels their engaging conversations and ensures their participants return year after year. \nTheir ultimate goal is to not only support and grow the industry\, but also to foster a continuous process of learning\, growth and evolution for your business. They offer a platform to stay ahead of industry trends and future-proof your operations. This is where you’ll connect with leaders just like you\, as well as those with different experiences and backgrounds. You’ll engage in thought-provoking discussions and forge relationships that will shape the future of work.
URL:https://allwork.space/event/gcuc-united-kingdom-3/
LOCATION:Convene\, 22 Bishopsgate\, London\, United Kingdom
CATEGORIES:Coworking & Flex Office,Leadership
ATTACH;FMTTYPE=image/jpeg:https://allwork.space/wp-content/uploads/2024/06/GCUC-United-Kingdom-1.jpg
END:VEVENT
BEGIN:VEVENT
DTSTART;VALUE=DATE:20241025
DTEND;VALUE=DATE:20241026
DTSTAMP:20260422T140028
CREATED:20241003T191429Z
LAST-MODIFIED:20241004T171137Z
UID:1031717-1729814400-1729900799@allwork.space
SUMMARY:Coworking Convo: Event Ideas & Strategies for Your Coworking Space
DESCRIPTION:What types of events can strengthen your coworking community and attract great-fit members to your space?\n​Let’s chat about it! \n​​Join us for a free\, informal\, community conversation with fellow workspace operators and coworking pros around the world. \n​Our guests will kick things off with their best tips\, insights and strategies. Then we’ll open the conversation up. \n​​Who should attend? \n\n​​Coworking space owners and operators\n​​Community managers\n​​Workspace teams\n\n​​What should you bring? \n\n​​Ideas\, insights and strategies\n​​Questions for other workspace operators\n​​A spirit of collaboration and cooperation
URL:https://allwork.space/event/coworking-convo-event-ideas-strategies-for-your-coworking-space/
CATEGORIES:Coworking & Flex Office,Marketing & Sales
ATTACH;FMTTYPE=image/jpeg:https://allwork.space/wp-content/uploads/2024/10/Coworking-Convos-Featured.jpg
END:VEVENT
END:VCALENDAR